BEGIN:VCALENDAR
VERSION:2.0
PRODID:https://www.kufer.de/kuferweb / DE
METHOD:PUBLISH
CALSCALE:GREGORIAN
X-WR-TIMEZONE:Europe/Berlin
BEGIN:VTIMEZONE
TZID:Europe/Berlin
X-LIC-LOCATION:Europe/Berlin
BEGIN:DAYLIGHT
TZOFFSETFROM:+0100
TZOFFSETTO:+0200
TZNAME:CEST
DTSTART:19700329T020000
RRULE:FREQ=YEARLY;INTERVAL=1;BYDAY=-1SU;BYMONTH=3
END:DAYLIGHT
BEGIN:STANDARD
TZOFFSETFROM:+0200
TZOFFSETTO:+0100
TZNAME:CET
DTSTART:19701025T030000
RRULE:FREQ=YEARLY;INTERVAL=1;BYDAY=-1SU;BYMONTH=10
END:STANDARD
END:VTIMEZONE
BEGIN:VEVENT
DTSTAMP:20260422T082939
DTSTART;TZID=Europe/Berlin:20260710T163000
DTEND;TZID=Europe/Berlin:20260710T180000
UID:261-6331-20260710T163000@VHSMARKTHEIDENFELD
SUMMARY:Kreativ mit KI: Deine Ideen, Deine Geschichten, Deine Bilder! für Kinder von 8-12 Jahren (261-6331) 
LOCATION:Altes Rathaus, Raum 3.3, Marktplatz 24, 97828 Marktheidenfeld
END:VEVENT
BEGIN:VEVENT
DTSTAMP:20260422T082939
DTSTART;TZID=Europe/Berlin:20260717T163000
DTEND;TZID=Europe/Berlin:20260717T180000
UID:261-6331-20260717T163000@VHSMARKTHEIDENFELD
SUMMARY:Kreativ mit KI: Deine Ideen, Deine Geschichten, Deine Bilder! für Kinder von 8-12 Jahren (261-6331) 
LOCATION:Altes Rathaus, Raum 3.3, Marktplatz 24, 97828 Marktheidenfeld
END:VEVENT
BEGIN:VEVENT
DTSTAMP:20260422T082939
DTSTART;TZID=Europe/Berlin:20260724T163000
DTEND;TZID=Europe/Berlin:20260724T180000
UID:261-6331-20260724T163000@VHSMARKTHEIDENFELD
SUMMARY:Kreativ mit KI: Deine Ideen, Deine Geschichten, Deine Bilder! für Kinder von 8-12 Jahren (261-6331) 
LOCATION:Altes Rathaus, Raum 3.3, Marktplatz 24, 97828 Marktheidenfeld
END:VEVENT
END:VCALENDAR