BEGIN:VCALENDAR
VERSION:2.0
PRODID:https://www.kufer.de/kuferweb / DE
METHOD:PUBLISH
CALSCALE:GREGORIAN
X-WR-TIMEZONE:Europe/Berlin
BEGIN:VTIMEZONE
TZID:Europe/Berlin
X-LIC-LOCATION:Europe/Berlin
BEGIN:DAYLIGHT
TZOFFSETFROM:+0100
TZOFFSETTO:+0200
TZNAME:CEST
DTSTART:19700329T020000
RRULE:FREQ=YEARLY;INTERVAL=1;BYDAY=-1SU;BYMONTH=3
END:DAYLIGHT
BEGIN:STANDARD
TZOFFSETFROM:+0200
TZOFFSETTO:+0100
TZNAME:CET
DTSTART:19701025T030000
RRULE:FREQ=YEARLY;INTERVAL=1;BYDAY=-1SU;BYMONTH=10
END:STANDARD
END:VTIMEZONE
BEGIN:VEVENT
DTSTAMP:20260422T083034
DTSTART;TZID=Europe/Berlin:20260612T150000
DTEND;TZID=Europe/Berlin:20260612T160000
UID:261-6312S-20260612T150000@VHSMARKTHEIDENFELD
SUMMARY:Tanzträume aus 1001 Nacht: Bauchtanzkurs für Kinder  von 6 bis 12 Jahren (261-6312S) 
LOCATION:Altes Rathaus, Raum 2.1, Marktplatz 24, 97828 Marktheidenfeld
END:VEVENT
BEGIN:VEVENT
DTSTAMP:20260422T083034
DTSTART;TZID=Europe/Berlin:20260619T150000
DTEND;TZID=Europe/Berlin:20260619T160000
UID:261-6312S-20260619T150000@VHSMARKTHEIDENFELD
SUMMARY:Tanzträume aus 1001 Nacht: Bauchtanzkurs für Kinder  von 6 bis 12 Jahren (261-6312S) 
LOCATION:Altes Rathaus, Raum 2.1, Marktplatz 24, 97828 Marktheidenfeld
END:VEVENT
BEGIN:VEVENT
DTSTAMP:20260422T083034
DTSTART;TZID=Europe/Berlin:20260626T150000
DTEND;TZID=Europe/Berlin:20260626T160000
UID:261-6312S-20260626T150000@VHSMARKTHEIDENFELD
SUMMARY:Tanzträume aus 1001 Nacht: Bauchtanzkurs für Kinder  von 6 bis 12 Jahren (261-6312S) 
LOCATION:Altes Rathaus, Raum 2.1, Marktplatz 24, 97828 Marktheidenfeld
END:VEVENT
BEGIN:VEVENT
DTSTAMP:20260422T083034
DTSTART;TZID=Europe/Berlin:20260703T150000
DTEND;TZID=Europe/Berlin:20260703T160000
UID:261-6312S-20260703T150000@VHSMARKTHEIDENFELD
SUMMARY:Tanzträume aus 1001 Nacht: Bauchtanzkurs für Kinder  von 6 bis 12 Jahren (261-6312S) 
LOCATION:Altes Rathaus, Raum 2.1, Marktplatz 24, 97828 Marktheidenfeld
END:VEVENT
BEGIN:VEVENT
DTSTAMP:20260422T083034
DTSTART;TZID=Europe/Berlin:20260710T150000
DTEND;TZID=Europe/Berlin:20260710T160000
UID:261-6312S-20260710T150000@VHSMARKTHEIDENFELD
SUMMARY:Tanzträume aus 1001 Nacht: Bauchtanzkurs für Kinder  von 6 bis 12 Jahren (261-6312S) 
LOCATION:Altes Rathaus, Raum 2.1, Marktplatz 24, 97828 Marktheidenfeld
END:VEVENT
BEGIN:VEVENT
DTSTAMP:20260422T083034
DTSTART;TZID=Europe/Berlin:20260717T150000
DTEND;TZID=Europe/Berlin:20260717T160000
UID:261-6312S-20260717T150000@VHSMARKTHEIDENFELD
SUMMARY:Tanzträume aus 1001 Nacht: Bauchtanzkurs für Kinder  von 6 bis 12 Jahren (261-6312S) 
LOCATION:Altes Rathaus, Raum 2.1, Marktplatz 24, 97828 Marktheidenfeld
END:VEVENT
BEGIN:VEVENT
DTSTAMP:20260422T083034
DTSTART;TZID=Europe/Berlin:20260724T150000
DTEND;TZID=Europe/Berlin:20260724T160000
UID:261-6312S-20260724T150000@VHSMARKTHEIDENFELD
SUMMARY:Tanzträume aus 1001 Nacht: Bauchtanzkurs für Kinder  von 6 bis 12 Jahren (261-6312S) 
LOCATION:Altes Rathaus, Raum 2.1, Marktplatz 24, 97828 Marktheidenfeld
END:VEVENT
BEGIN:VEVENT
DTSTAMP:20260422T083034
DTSTART;TZID=Europe/Berlin:20260731T150000
DTEND;TZID=Europe/Berlin:20260731T160000
UID:261-6312S-20260731T150000@VHSMARKTHEIDENFELD
SUMMARY:Tanzträume aus 1001 Nacht: Bauchtanzkurs für Kinder  von 6 bis 12 Jahren (261-6312S) 
LOCATION:Altes Rathaus, Raum 2.1, Marktplatz 24, 97828 Marktheidenfeld
END:VEVENT
END:VCALENDAR