BEGIN:VCALENDAR
VERSION:2.0
PRODID:https://www.kufer.de/kuferweb / DE
METHOD:PUBLISH
CALSCALE:GREGORIAN
X-WR-TIMEZONE:Europe/Berlin
BEGIN:VTIMEZONE
TZID:Europe/Berlin
X-LIC-LOCATION:Europe/Berlin
BEGIN:DAYLIGHT
TZOFFSETFROM:+0100
TZOFFSETTO:+0200
TZNAME:CEST
DTSTART:19700329T020000
RRULE:FREQ=YEARLY;INTERVAL=1;BYDAY=-1SU;BYMONTH=3
END:DAYLIGHT
BEGIN:STANDARD
TZOFFSETFROM:+0200
TZOFFSETTO:+0100
TZNAME:CET
DTSTART:19701025T030000
RRULE:FREQ=YEARLY;INTERVAL=1;BYDAY=-1SU;BYMONTH=10
END:STANDARD
END:VTIMEZONE
BEGIN:VEVENT
DTSTAMP:20260422T082949
DTSTART;TZID=Europe/Berlin:20260227T150000
DTEND;TZID=Europe/Berlin:20260227T160000
UID:261-6312-20260227T150000@VHSMARKTHEIDENFELD
SUMMARY:Bauchtanzkurs für Kinder von 6 bis 12 Jahren: Tanzträume aus 1001 Nacht (261-6312) 
LOCATION:Altes Rathaus, Raum 2.1, Marktplatz 24, 97828 Marktheidenfeld
END:VEVENT
BEGIN:VEVENT
DTSTAMP:20260422T082949
DTSTART;TZID=Europe/Berlin:20260306T150000
DTEND;TZID=Europe/Berlin:20260306T160000
UID:261-6312-20260306T150000@VHSMARKTHEIDENFELD
SUMMARY:Bauchtanzkurs für Kinder von 6 bis 12 Jahren: Tanzträume aus 1001 Nacht (261-6312) 
LOCATION:Altes Rathaus, Raum 2.1, Marktplatz 24, 97828 Marktheidenfeld
END:VEVENT
BEGIN:VEVENT
DTSTAMP:20260422T082949
DTSTART;TZID=Europe/Berlin:20260313T150000
DTEND;TZID=Europe/Berlin:20260313T160000
UID:261-6312-20260313T150000@VHSMARKTHEIDENFELD
SUMMARY:Bauchtanzkurs für Kinder von 6 bis 12 Jahren: Tanzträume aus 1001 Nacht (261-6312) 
LOCATION:Altes Rathaus, Raum 2.1, Marktplatz 24, 97828 Marktheidenfeld
END:VEVENT
BEGIN:VEVENT
DTSTAMP:20260422T082949
DTSTART;TZID=Europe/Berlin:20260320T150000
DTEND;TZID=Europe/Berlin:20260320T160000
UID:261-6312-20260320T150000@VHSMARKTHEIDENFELD
SUMMARY:Bauchtanzkurs für Kinder von 6 bis 12 Jahren: Tanzträume aus 1001 Nacht (261-6312) 
LOCATION:Altes Rathaus, Raum 2.1, Marktplatz 24, 97828 Marktheidenfeld
END:VEVENT
BEGIN:VEVENT
DTSTAMP:20260422T082949
DTSTART;TZID=Europe/Berlin:20260327T150000
DTEND;TZID=Europe/Berlin:20260327T160000
UID:261-6312-20260327T150000@VHSMARKTHEIDENFELD
SUMMARY:Bauchtanzkurs für Kinder von 6 bis 12 Jahren: Tanzträume aus 1001 Nacht (261-6312) 
LOCATION:Altes Rathaus, Raum 2.1, Marktplatz 24, 97828 Marktheidenfeld
END:VEVENT
BEGIN:VEVENT
DTSTAMP:20260422T082949
DTSTART;TZID=Europe/Berlin:20260417T150000
DTEND;TZID=Europe/Berlin:20260417T160000
UID:261-6312-20260417T150000@VHSMARKTHEIDENFELD
SUMMARY:Bauchtanzkurs für Kinder von 6 bis 12 Jahren: Tanzträume aus 1001 Nacht (261-6312) 
LOCATION:Altes Rathaus, Raum 2.1, Marktplatz 24, 97828 Marktheidenfeld
END:VEVENT
BEGIN:VEVENT
DTSTAMP:20260422T082949
DTSTART;TZID=Europe/Berlin:20260424T150000
DTEND;TZID=Europe/Berlin:20260424T160000
UID:261-6312-20260424T150000@VHSMARKTHEIDENFELD
SUMMARY:Bauchtanzkurs für Kinder von 6 bis 12 Jahren: Tanzträume aus 1001 Nacht (261-6312) 
LOCATION:Altes Rathaus, Raum 2.1, Marktplatz 24, 97828 Marktheidenfeld
END:VEVENT
BEGIN:VEVENT
DTSTAMP:20260422T082949
DTSTART;TZID=Europe/Berlin:20260508T150000
DTEND;TZID=Europe/Berlin:20260508T160000
UID:261-6312-20260508T150000@VHSMARKTHEIDENFELD
SUMMARY:Bauchtanzkurs für Kinder von 6 bis 12 Jahren: Tanzträume aus 1001 Nacht (261-6312) 
LOCATION:Altes Rathaus, Raum 2.1, Marktplatz 24, 97828 Marktheidenfeld
END:VEVENT
BEGIN:VEVENT
DTSTAMP:20260422T082949
DTSTART;TZID=Europe/Berlin:20260515T150000
DTEND;TZID=Europe/Berlin:20260515T160000
UID:261-6312-20260515T150000@VHSMARKTHEIDENFELD
SUMMARY:Bauchtanzkurs für Kinder von 6 bis 12 Jahren: Tanzträume aus 1001 Nacht (261-6312) 
LOCATION:Altes Rathaus, Raum 2.1, Marktplatz 24, 97828 Marktheidenfeld
END:VEVENT
BEGIN:VEVENT
DTSTAMP:20260422T082949
DTSTART;TZID=Europe/Berlin:20260522T150000
DTEND;TZID=Europe/Berlin:20260522T160000
UID:261-6312-20260522T150000@VHSMARKTHEIDENFELD
SUMMARY:Bauchtanzkurs für Kinder von 6 bis 12 Jahren: Tanzträume aus 1001 Nacht (261-6312) 
LOCATION:Altes Rathaus, Raum 2.1, Marktplatz 24, 97828 Marktheidenfeld
END:VEVENT
END:VCALENDAR