BEGIN:VCALENDAR
VERSION:2.0
PRODID:https://www.kufer.de/kuferweb / DE
METHOD:PUBLISH
CALSCALE:GREGORIAN
X-WR-TIMEZONE:Europe/Berlin
BEGIN:VTIMEZONE
TZID:Europe/Berlin
X-LIC-LOCATION:Europe/Berlin
BEGIN:DAYLIGHT
TZOFFSETFROM:+0100
TZOFFSETTO:+0200
TZNAME:CEST
DTSTART:19700329T020000
RRULE:FREQ=YEARLY;INTERVAL=1;BYDAY=-1SU;BYMONTH=3
END:DAYLIGHT
BEGIN:STANDARD
TZOFFSETFROM:+0200
TZOFFSETTO:+0100
TZNAME:CET
DTSTART:19701025T030000
RRULE:FREQ=YEARLY;INTERVAL=1;BYDAY=-1SU;BYMONTH=10
END:STANDARD
END:VTIMEZONE
BEGIN:VEVENT
DTSTAMP:20260422T151951
DTSTART;TZID=Europe/Berlin:20260611T160000
DTEND;TZID=Europe/Berlin:20260611T173000
UID:261-6201S-20260611T160000@VHSMARKTHEIDENFELD
SUMMARY:Kreativer Farbenspaß - Für Kinder von 7-11 Jahren (261-6201S) 
LOCATION:Alte Schmiede, Schmiedsecke, Schmiedsecke 1, Marktheidenfeld
END:VEVENT
BEGIN:VEVENT
DTSTAMP:20260422T151951
DTSTART;TZID=Europe/Berlin:20260618T160000
DTEND;TZID=Europe/Berlin:20260618T173000
UID:261-6201S-20260618T160000@VHSMARKTHEIDENFELD
SUMMARY:Kreativer Farbenspaß - Für Kinder von 7-11 Jahren (261-6201S) 
LOCATION:Alte Schmiede, Schmiedsecke, Schmiedsecke 1, Marktheidenfeld
END:VEVENT
BEGIN:VEVENT
DTSTAMP:20260422T151951
DTSTART;TZID=Europe/Berlin:20260625T160000
DTEND;TZID=Europe/Berlin:20260625T173000
UID:261-6201S-20260625T160000@VHSMARKTHEIDENFELD
SUMMARY:Kreativer Farbenspaß - Für Kinder von 7-11 Jahren (261-6201S) 
LOCATION:Alte Schmiede, Schmiedsecke, Schmiedsecke 1, Marktheidenfeld
END:VEVENT
BEGIN:VEVENT
DTSTAMP:20260422T151951
DTSTART;TZID=Europe/Berlin:20260702T160000
DTEND;TZID=Europe/Berlin:20260702T173000
UID:261-6201S-20260702T160000@VHSMARKTHEIDENFELD
SUMMARY:Kreativer Farbenspaß - Für Kinder von 7-11 Jahren (261-6201S) 
LOCATION:Alte Schmiede, Schmiedsecke, Schmiedsecke 1, Marktheidenfeld
END:VEVENT
BEGIN:VEVENT
DTSTAMP:20260422T151951
DTSTART;TZID=Europe/Berlin:20260709T160000
DTEND;TZID=Europe/Berlin:20260709T173000
UID:261-6201S-20260709T160000@VHSMARKTHEIDENFELD
SUMMARY:Kreativer Farbenspaß - Für Kinder von 7-11 Jahren (261-6201S) 
LOCATION:Alte Schmiede, Schmiedsecke, Schmiedsecke 1, Marktheidenfeld
END:VEVENT
BEGIN:VEVENT
DTSTAMP:20260422T151951
DTSTART;TZID=Europe/Berlin:20260716T160000
DTEND;TZID=Europe/Berlin:20260716T173000
UID:261-6201S-20260716T160000@VHSMARKTHEIDENFELD
SUMMARY:Kreativer Farbenspaß - Für Kinder von 7-11 Jahren (261-6201S) 
LOCATION:Alte Schmiede, Schmiedsecke, Schmiedsecke 1, Marktheidenfeld
END:VEVENT
BEGIN:VEVENT
DTSTAMP:20260422T151951
DTSTART;TZID=Europe/Berlin:20260723T160000
DTEND;TZID=Europe/Berlin:20260723T173000
UID:261-6201S-20260723T160000@VHSMARKTHEIDENFELD
SUMMARY:Kreativer Farbenspaß - Für Kinder von 7-11 Jahren (261-6201S) 
LOCATION:Alte Schmiede, Schmiedsecke, Schmiedsecke 1, Marktheidenfeld
END:VEVENT
BEGIN:VEVENT
DTSTAMP:20260422T151951
DTSTART;TZID=Europe/Berlin:20260730T160000
DTEND;TZID=Europe/Berlin:20260730T173000
UID:261-6201S-20260730T160000@VHSMARKTHEIDENFELD
SUMMARY:Kreativer Farbenspaß - Für Kinder von 7-11 Jahren (261-6201S) 
LOCATION:Alte Schmiede, Schmiedsecke, Schmiedsecke 1, Marktheidenfeld
END:VEVENT
END:VCALENDAR