BEGIN:VCALENDAR
VERSION:2.0
PRODID:https://www.kufer.de/kuferweb / DE
METHOD:PUBLISH
CALSCALE:GREGORIAN
X-WR-TIMEZONE:Europe/Berlin
BEGIN:VTIMEZONE
TZID:Europe/Berlin
X-LIC-LOCATION:Europe/Berlin
BEGIN:DAYLIGHT
TZOFFSETFROM:+0100
TZOFFSETTO:+0200
TZNAME:CEST
DTSTART:19700329T020000
RRULE:FREQ=YEARLY;INTERVAL=1;BYDAY=-1SU;BYMONTH=3
END:DAYLIGHT
BEGIN:STANDARD
TZOFFSETFROM:+0200
TZOFFSETTO:+0100
TZNAME:CET
DTSTART:19701025T030000
RRULE:FREQ=YEARLY;INTERVAL=1;BYDAY=-1SU;BYMONTH=10
END:STANDARD
END:VTIMEZONE
BEGIN:VEVENT
DTSTAMP:20260419T145339
DTSTART;TZID=Europe/Berlin:20260608T190000
DTEND;TZID=Europe/Berlin:20260608T203000
UID:261-4180S-20260608T190000@VHSMARKTHEIDENFELD
SUMMARY:Conversation française C1 (261-4180S) 
LOCATION:Altes Rathaus, Raum 2.4, Marktplatz 24, 97828 Marktheidenfeld
END:VEVENT
BEGIN:VEVENT
DTSTAMP:20260419T145339
DTSTART;TZID=Europe/Berlin:20260615T190000
DTEND;TZID=Europe/Berlin:20260615T203000
UID:261-4180S-20260615T190000@VHSMARKTHEIDENFELD
SUMMARY:Conversation française C1 (261-4180S) 
LOCATION:Altes Rathaus, Raum 2.4, Marktplatz 24, 97828 Marktheidenfeld
END:VEVENT
BEGIN:VEVENT
DTSTAMP:20260419T145339
DTSTART;TZID=Europe/Berlin:20260622T190000
DTEND;TZID=Europe/Berlin:20260622T203000
UID:261-4180S-20260622T190000@VHSMARKTHEIDENFELD
SUMMARY:Conversation française C1 (261-4180S) 
LOCATION:Altes Rathaus, Raum 2.4, Marktplatz 24, 97828 Marktheidenfeld
END:VEVENT
BEGIN:VEVENT
DTSTAMP:20260419T145339
DTSTART;TZID=Europe/Berlin:20260629T190000
DTEND;TZID=Europe/Berlin:20260629T203000
UID:261-4180S-20260629T190000@VHSMARKTHEIDENFELD
SUMMARY:Conversation française C1 (261-4180S) 
LOCATION:Altes Rathaus, Raum 2.4, Marktplatz 24, 97828 Marktheidenfeld
END:VEVENT
BEGIN:VEVENT
DTSTAMP:20260419T145339
DTSTART;TZID=Europe/Berlin:20260706T190000
DTEND;TZID=Europe/Berlin:20260706T203000
UID:261-4180S-20260706T190000@VHSMARKTHEIDENFELD
SUMMARY:Conversation française C1 (261-4180S) 
LOCATION:Altes Rathaus, Raum 2.4, Marktplatz 24, 97828 Marktheidenfeld
END:VEVENT
BEGIN:VEVENT
DTSTAMP:20260419T145339
DTSTART;TZID=Europe/Berlin:20260713T190000
DTEND;TZID=Europe/Berlin:20260713T203000
UID:261-4180S-20260713T190000@VHSMARKTHEIDENFELD
SUMMARY:Conversation française C1 (261-4180S) 
LOCATION:Altes Rathaus, Raum 2.4, Marktplatz 24, 97828 Marktheidenfeld
END:VEVENT
BEGIN:VEVENT
DTSTAMP:20260419T145339
DTSTART;TZID=Europe/Berlin:20260720T190000
DTEND;TZID=Europe/Berlin:20260720T203000
UID:261-4180S-20260720T190000@VHSMARKTHEIDENFELD
SUMMARY:Conversation française C1 (261-4180S) 
LOCATION:Altes Rathaus, Raum 2.4, Marktplatz 24, 97828 Marktheidenfeld
END:VEVENT
END:VCALENDAR