BEGIN:VCALENDAR
VERSION:2.0
PRODID:https://www.kufer.de/kuferweb / DE
METHOD:PUBLISH
CALSCALE:GREGORIAN
X-WR-TIMEZONE:Europe/Berlin
BEGIN:VTIMEZONE
TZID:Europe/Berlin
X-LIC-LOCATION:Europe/Berlin
BEGIN:DAYLIGHT
TZOFFSETFROM:+0100
TZOFFSETTO:+0200
TZNAME:CEST
DTSTART:19700329T020000
RRULE:FREQ=YEARLY;INTERVAL=1;BYDAY=-1SU;BYMONTH=3
END:DAYLIGHT
BEGIN:STANDARD
TZOFFSETFROM:+0200
TZOFFSETTO:+0100
TZNAME:CET
DTSTART:19701025T030000
RRULE:FREQ=YEARLY;INTERVAL=1;BYDAY=-1SU;BYMONTH=10
END:STANDARD
END:VTIMEZONE
BEGIN:VEVENT
DTSTAMP:20260419T144125
DTSTART;TZID=Europe/Berlin:20260608T103000
DTEND;TZID=Europe/Berlin:20260608T120000
UID:261-4140S-20260608T103000@VHSMARKTHEIDENFELD
SUMMARY:Französisch B1.1  Erste Schritte in die fortgeschrittene Sprachverwendung (261-4140S) 
LOCATION:Altes Rathaus, Raum 2.4, Marktplatz 24, 97828 Marktheidenfeld
END:VEVENT
BEGIN:VEVENT
DTSTAMP:20260419T144125
DTSTART;TZID=Europe/Berlin:20260615T103000
DTEND;TZID=Europe/Berlin:20260615T120000
UID:261-4140S-20260615T103000@VHSMARKTHEIDENFELD
SUMMARY:Französisch B1.1  Erste Schritte in die fortgeschrittene Sprachverwendung (261-4140S) 
LOCATION:Altes Rathaus, Raum 2.4, Marktplatz 24, 97828 Marktheidenfeld
END:VEVENT
BEGIN:VEVENT
DTSTAMP:20260419T144125
DTSTART;TZID=Europe/Berlin:20260622T103000
DTEND;TZID=Europe/Berlin:20260622T120000
UID:261-4140S-20260622T103000@VHSMARKTHEIDENFELD
SUMMARY:Französisch B1.1  Erste Schritte in die fortgeschrittene Sprachverwendung (261-4140S) 
LOCATION:Altes Rathaus, Raum 2.4, Marktplatz 24, 97828 Marktheidenfeld
END:VEVENT
BEGIN:VEVENT
DTSTAMP:20260419T144125
DTSTART;TZID=Europe/Berlin:20260629T103000
DTEND;TZID=Europe/Berlin:20260629T120000
UID:261-4140S-20260629T103000@VHSMARKTHEIDENFELD
SUMMARY:Französisch B1.1  Erste Schritte in die fortgeschrittene Sprachverwendung (261-4140S) 
LOCATION:Altes Rathaus, Raum 2.4, Marktplatz 24, 97828 Marktheidenfeld
END:VEVENT
BEGIN:VEVENT
DTSTAMP:20260419T144125
DTSTART;TZID=Europe/Berlin:20260706T103000
DTEND;TZID=Europe/Berlin:20260706T120000
UID:261-4140S-20260706T103000@VHSMARKTHEIDENFELD
SUMMARY:Französisch B1.1  Erste Schritte in die fortgeschrittene Sprachverwendung (261-4140S) 
LOCATION:Altes Rathaus, Raum 2.4, Marktplatz 24, 97828 Marktheidenfeld
END:VEVENT
BEGIN:VEVENT
DTSTAMP:20260419T144125
DTSTART;TZID=Europe/Berlin:20260713T103000
DTEND;TZID=Europe/Berlin:20260713T120000
UID:261-4140S-20260713T103000@VHSMARKTHEIDENFELD
SUMMARY:Französisch B1.1  Erste Schritte in die fortgeschrittene Sprachverwendung (261-4140S) 
LOCATION:Altes Rathaus, Raum 2.4, Marktplatz 24, 97828 Marktheidenfeld
END:VEVENT
BEGIN:VEVENT
DTSTAMP:20260419T144125
DTSTART;TZID=Europe/Berlin:20260720T103000
DTEND;TZID=Europe/Berlin:20260720T120000
UID:261-4140S-20260720T103000@VHSMARKTHEIDENFELD
SUMMARY:Französisch B1.1  Erste Schritte in die fortgeschrittene Sprachverwendung (261-4140S) 
LOCATION:Altes Rathaus, Raum 2.4, Marktplatz 24, 97828 Marktheidenfeld
END:VEVENT
END:VCALENDAR