BEGIN:VCALENDAR
VERSION:2.0
PRODID:https://www.kufer.de/kuferweb / DE
METHOD:PUBLISH
CALSCALE:GREGORIAN
X-WR-TIMEZONE:Europe/Berlin
BEGIN:VTIMEZONE
TZID:Europe/Berlin
X-LIC-LOCATION:Europe/Berlin
BEGIN:DAYLIGHT
TZOFFSETFROM:+0100
TZOFFSETTO:+0200
TZNAME:CEST
DTSTART:19700329T020000
RRULE:FREQ=YEARLY;INTERVAL=1;BYDAY=-1SU;BYMONTH=3
END:DAYLIGHT
BEGIN:STANDARD
TZOFFSETFROM:+0200
TZOFFSETTO:+0100
TZNAME:CET
DTSTART:19701025T030000
RRULE:FREQ=YEARLY;INTERVAL=1;BYDAY=-1SU;BYMONTH=10
END:STANDARD
END:VTIMEZONE
BEGIN:VEVENT
DTSTAMP:20260419T144931
DTSTART;TZID=Europe/Berlin:20260611T103000
DTEND;TZID=Europe/Berlin:20260611T120000
UID:261-4124S-20260611T103000@VHSMARKTHEIDENFELD
SUMMARY:Französisch B1.1  Erste Schritte in die fortgeschrittene Sprachverwendung (261-4124S) 
LOCATION:Altes Rathaus, Raum 2.4, Marktplatz 24, 97828 Marktheidenfeld
END:VEVENT
BEGIN:VEVENT
DTSTAMP:20260419T144931
DTSTART;TZID=Europe/Berlin:20260618T103000
DTEND;TZID=Europe/Berlin:20260618T120000
UID:261-4124S-20260618T103000@VHSMARKTHEIDENFELD
SUMMARY:Französisch B1.1  Erste Schritte in die fortgeschrittene Sprachverwendung (261-4124S) 
LOCATION:Altes Rathaus, Raum 2.4, Marktplatz 24, 97828 Marktheidenfeld
END:VEVENT
BEGIN:VEVENT
DTSTAMP:20260419T144931
DTSTART;TZID=Europe/Berlin:20260625T103000
DTEND;TZID=Europe/Berlin:20260625T120000
UID:261-4124S-20260625T103000@VHSMARKTHEIDENFELD
SUMMARY:Französisch B1.1  Erste Schritte in die fortgeschrittene Sprachverwendung (261-4124S) 
LOCATION:Altes Rathaus, Raum 2.4, Marktplatz 24, 97828 Marktheidenfeld
END:VEVENT
BEGIN:VEVENT
DTSTAMP:20260419T144931
DTSTART;TZID=Europe/Berlin:20260702T103000
DTEND;TZID=Europe/Berlin:20260702T120000
UID:261-4124S-20260702T103000@VHSMARKTHEIDENFELD
SUMMARY:Französisch B1.1  Erste Schritte in die fortgeschrittene Sprachverwendung (261-4124S) 
LOCATION:Altes Rathaus, Raum 2.4, Marktplatz 24, 97828 Marktheidenfeld
END:VEVENT
BEGIN:VEVENT
DTSTAMP:20260419T144931
DTSTART;TZID=Europe/Berlin:20260709T103000
DTEND;TZID=Europe/Berlin:20260709T120000
UID:261-4124S-20260709T103000@VHSMARKTHEIDENFELD
SUMMARY:Französisch B1.1  Erste Schritte in die fortgeschrittene Sprachverwendung (261-4124S) 
LOCATION:Altes Rathaus, Raum 2.4, Marktplatz 24, 97828 Marktheidenfeld
END:VEVENT
BEGIN:VEVENT
DTSTAMP:20260419T144931
DTSTART;TZID=Europe/Berlin:20260716T103000
DTEND;TZID=Europe/Berlin:20260716T120000
UID:261-4124S-20260716T103000@VHSMARKTHEIDENFELD
SUMMARY:Französisch B1.1  Erste Schritte in die fortgeschrittene Sprachverwendung (261-4124S) 
LOCATION:Altes Rathaus, Raum 2.4, Marktplatz 24, 97828 Marktheidenfeld
END:VEVENT
BEGIN:VEVENT
DTSTAMP:20260419T144931
DTSTART;TZID=Europe/Berlin:20260723T103000
DTEND;TZID=Europe/Berlin:20260723T120000
UID:261-4124S-20260723T103000@VHSMARKTHEIDENFELD
SUMMARY:Französisch B1.1  Erste Schritte in die fortgeschrittene Sprachverwendung (261-4124S) 
LOCATION:Altes Rathaus, Raum 2.4, Marktplatz 24, 97828 Marktheidenfeld
END:VEVENT
END:VCALENDAR