BEGIN:VCALENDAR
VERSION:2.0
PRODID:https://www.kufer.de/kuferweb / DE
METHOD:PUBLISH
CALSCALE:GREGORIAN
X-WR-TIMEZONE:Europe/Berlin
BEGIN:VTIMEZONE
TZID:Europe/Berlin
X-LIC-LOCATION:Europe/Berlin
BEGIN:DAYLIGHT
TZOFFSETFROM:+0100
TZOFFSETTO:+0200
TZNAME:CEST
DTSTART:19700329T020000
RRULE:FREQ=YEARLY;INTERVAL=1;BYDAY=-1SU;BYMONTH=3
END:DAYLIGHT
BEGIN:STANDARD
TZOFFSETFROM:+0200
TZOFFSETTO:+0100
TZNAME:CET
DTSTART:19701025T030000
RRULE:FREQ=YEARLY;INTERVAL=1;BYDAY=-1SU;BYMONTH=10
END:STANDARD
END:VTIMEZONE
BEGIN:VEVENT
DTSTAMP:20260419T145400
DTSTART;TZID=Europe/Berlin:20260609T163000
DTEND;TZID=Europe/Berlin:20260609T180000
UID:261-4120S-20260609T163000@VHSMARKTHEIDENFELD
SUMMARY:Französisch A2.1 Grundkenntnisse vertiefen und anwenden (261-4120S) 
LOCATION:Altes Rathaus, Raum 2.4, Marktplatz 24, 97828 Marktheidenfeld
END:VEVENT
BEGIN:VEVENT
DTSTAMP:20260419T145400
DTSTART;TZID=Europe/Berlin:20260616T163000
DTEND;TZID=Europe/Berlin:20260616T180000
UID:261-4120S-20260616T163000@VHSMARKTHEIDENFELD
SUMMARY:Französisch A2.1 Grundkenntnisse vertiefen und anwenden (261-4120S) 
LOCATION:Altes Rathaus, Raum 2.4, Marktplatz 24, 97828 Marktheidenfeld
END:VEVENT
BEGIN:VEVENT
DTSTAMP:20260419T145400
DTSTART;TZID=Europe/Berlin:20260623T163000
DTEND;TZID=Europe/Berlin:20260623T180000
UID:261-4120S-20260623T163000@VHSMARKTHEIDENFELD
SUMMARY:Französisch A2.1 Grundkenntnisse vertiefen und anwenden (261-4120S) 
LOCATION:Altes Rathaus, Raum 2.4, Marktplatz 24, 97828 Marktheidenfeld
END:VEVENT
BEGIN:VEVENT
DTSTAMP:20260419T145400
DTSTART;TZID=Europe/Berlin:20260630T163000
DTEND;TZID=Europe/Berlin:20260630T180000
UID:261-4120S-20260630T163000@VHSMARKTHEIDENFELD
SUMMARY:Französisch A2.1 Grundkenntnisse vertiefen und anwenden (261-4120S) 
LOCATION:Altes Rathaus, Raum 2.4, Marktplatz 24, 97828 Marktheidenfeld
END:VEVENT
BEGIN:VEVENT
DTSTAMP:20260419T145400
DTSTART;TZID=Europe/Berlin:20260707T163000
DTEND;TZID=Europe/Berlin:20260707T180000
UID:261-4120S-20260707T163000@VHSMARKTHEIDENFELD
SUMMARY:Französisch A2.1 Grundkenntnisse vertiefen und anwenden (261-4120S) 
LOCATION:Altes Rathaus, Raum 2.4, Marktplatz 24, 97828 Marktheidenfeld
END:VEVENT
BEGIN:VEVENT
DTSTAMP:20260419T145400
DTSTART;TZID=Europe/Berlin:20260714T163000
DTEND;TZID=Europe/Berlin:20260714T180000
UID:261-4120S-20260714T163000@VHSMARKTHEIDENFELD
SUMMARY:Französisch A2.1 Grundkenntnisse vertiefen und anwenden (261-4120S) 
LOCATION:Altes Rathaus, Raum 2.4, Marktplatz 24, 97828 Marktheidenfeld
END:VEVENT
BEGIN:VEVENT
DTSTAMP:20260419T145400
DTSTART;TZID=Europe/Berlin:20260721T163000
DTEND;TZID=Europe/Berlin:20260721T180000
UID:261-4120S-20260721T163000@VHSMARKTHEIDENFELD
SUMMARY:Französisch A2.1 Grundkenntnisse vertiefen und anwenden (261-4120S) 
LOCATION:Altes Rathaus, Raum 2.4, Marktplatz 24, 97828 Marktheidenfeld
END:VEVENT
END:VCALENDAR