BEGIN:VCALENDAR
VERSION:2.0
PRODID:https://www.kufer.de/kuferweb / DE
METHOD:PUBLISH
CALSCALE:GREGORIAN
X-WR-TIMEZONE:Europe/Berlin
BEGIN:VTIMEZONE
TZID:Europe/Berlin
X-LIC-LOCATION:Europe/Berlin
BEGIN:DAYLIGHT
TZOFFSETFROM:+0100
TZOFFSETTO:+0200
TZNAME:CEST
DTSTART:19700329T020000
RRULE:FREQ=YEARLY;INTERVAL=1;BYDAY=-1SU;BYMONTH=3
END:DAYLIGHT
BEGIN:STANDARD
TZOFFSETFROM:+0200
TZOFFSETTO:+0100
TZNAME:CET
DTSTART:19701025T030000
RRULE:FREQ=YEARLY;INTERVAL=1;BYDAY=-1SU;BYMONTH=10
END:STANDARD
END:VTIMEZONE
BEGIN:VEVENT
DTSTAMP:20260419T160954
DTSTART;TZID=Europe/Berlin:20260609T103000
DTEND;TZID=Europe/Berlin:20260609T120000
UID:261-4042S-20260609T103000@VHSMARKTHEIDENFELD
SUMMARY:English Conversation B2.1  Auffrischen und Vertiefen in entspannter Atmosphäre (261-4042S) 
LOCATION:Altes Rathaus, Raum 3.2, Marktplatz 24, 97828 Marktheidenfeld
END:VEVENT
BEGIN:VEVENT
DTSTAMP:20260419T160954
DTSTART;TZID=Europe/Berlin:20260616T103000
DTEND;TZID=Europe/Berlin:20260616T120000
UID:261-4042S-20260616T103000@VHSMARKTHEIDENFELD
SUMMARY:English Conversation B2.1  Auffrischen und Vertiefen in entspannter Atmosphäre (261-4042S) 
LOCATION:Altes Rathaus, Raum 3.2, Marktplatz 24, 97828 Marktheidenfeld
END:VEVENT
BEGIN:VEVENT
DTSTAMP:20260419T160954
DTSTART;TZID=Europe/Berlin:20260623T103000
DTEND;TZID=Europe/Berlin:20260623T120000
UID:261-4042S-20260623T103000@VHSMARKTHEIDENFELD
SUMMARY:English Conversation B2.1  Auffrischen und Vertiefen in entspannter Atmosphäre (261-4042S) 
LOCATION:Altes Rathaus, Raum 3.2, Marktplatz 24, 97828 Marktheidenfeld
END:VEVENT
BEGIN:VEVENT
DTSTAMP:20260419T160954
DTSTART;TZID=Europe/Berlin:20260630T103000
DTEND;TZID=Europe/Berlin:20260630T120000
UID:261-4042S-20260630T103000@VHSMARKTHEIDENFELD
SUMMARY:English Conversation B2.1  Auffrischen und Vertiefen in entspannter Atmosphäre (261-4042S) 
LOCATION:Altes Rathaus, Raum 3.2, Marktplatz 24, 97828 Marktheidenfeld
END:VEVENT
BEGIN:VEVENT
DTSTAMP:20260419T160954
DTSTART;TZID=Europe/Berlin:20260707T103000
DTEND;TZID=Europe/Berlin:20260707T120000
UID:261-4042S-20260707T103000@VHSMARKTHEIDENFELD
SUMMARY:English Conversation B2.1  Auffrischen und Vertiefen in entspannter Atmosphäre (261-4042S) 
LOCATION:Altes Rathaus, Raum 3.2, Marktplatz 24, 97828 Marktheidenfeld
END:VEVENT
BEGIN:VEVENT
DTSTAMP:20260419T160954
DTSTART;TZID=Europe/Berlin:20260714T103000
DTEND;TZID=Europe/Berlin:20260714T120000
UID:261-4042S-20260714T103000@VHSMARKTHEIDENFELD
SUMMARY:English Conversation B2.1  Auffrischen und Vertiefen in entspannter Atmosphäre (261-4042S) 
LOCATION:Altes Rathaus, Raum 3.2, Marktplatz 24, 97828 Marktheidenfeld
END:VEVENT
BEGIN:VEVENT
DTSTAMP:20260419T160954
DTSTART;TZID=Europe/Berlin:20260721T103000
DTEND;TZID=Europe/Berlin:20260721T120000
UID:261-4042S-20260721T103000@VHSMARKTHEIDENFELD
SUMMARY:English Conversation B2.1  Auffrischen und Vertiefen in entspannter Atmosphäre (261-4042S) 
LOCATION:Altes Rathaus, Raum 3.2, Marktplatz 24, 97828 Marktheidenfeld
END:VEVENT
END:VCALENDAR