BEGIN:VCALENDAR
VERSION:2.0
PRODID:https://www.kufer.de/kuferweb / DE
METHOD:PUBLISH
CALSCALE:GREGORIAN
X-WR-TIMEZONE:Europe/Berlin
BEGIN:VTIMEZONE
TZID:Europe/Berlin
X-LIC-LOCATION:Europe/Berlin
BEGIN:DAYLIGHT
TZOFFSETFROM:+0100
TZOFFSETTO:+0200
TZNAME:CEST
DTSTART:19700329T020000
RRULE:FREQ=YEARLY;INTERVAL=1;BYDAY=-1SU;BYMONTH=3
END:DAYLIGHT
BEGIN:STANDARD
TZOFFSETFROM:+0200
TZOFFSETTO:+0100
TZNAME:CET
DTSTART:19701025T030000
RRULE:FREQ=YEARLY;INTERVAL=1;BYDAY=-1SU;BYMONTH=10
END:STANDARD
END:VTIMEZONE
BEGIN:VEVENT
DTSTAMP:20260419T161245
DTSTART;TZID=Europe/Berlin:20260611T100000
DTEND;TZID=Europe/Berlin:20260611T113000
UID:261-4041S-20260611T100000@VHSMARKTHEIDENFELD
SUMMARY:English Conversation B1.2  Weiterführung fortgeschrittene Sprachverwendung (261-4041S) 
LOCATION:Altes Rathaus, Raum 3.2, Marktplatz 24, 97828 Marktheidenfeld
END:VEVENT
BEGIN:VEVENT
DTSTAMP:20260419T161245
DTSTART;TZID=Europe/Berlin:20260618T100000
DTEND;TZID=Europe/Berlin:20260618T113000
UID:261-4041S-20260618T100000@VHSMARKTHEIDENFELD
SUMMARY:English Conversation B1.2  Weiterführung fortgeschrittene Sprachverwendung (261-4041S) 
LOCATION:Altes Rathaus, Raum 3.2, Marktplatz 24, 97828 Marktheidenfeld
END:VEVENT
BEGIN:VEVENT
DTSTAMP:20260419T161245
DTSTART;TZID=Europe/Berlin:20260625T100000
DTEND;TZID=Europe/Berlin:20260625T113000
UID:261-4041S-20260625T100000@VHSMARKTHEIDENFELD
SUMMARY:English Conversation B1.2  Weiterführung fortgeschrittene Sprachverwendung (261-4041S) 
LOCATION:Altes Rathaus, Raum 3.2, Marktplatz 24, 97828 Marktheidenfeld
END:VEVENT
BEGIN:VEVENT
DTSTAMP:20260419T161245
DTSTART;TZID=Europe/Berlin:20260702T100000
DTEND;TZID=Europe/Berlin:20260702T113000
UID:261-4041S-20260702T100000@VHSMARKTHEIDENFELD
SUMMARY:English Conversation B1.2  Weiterführung fortgeschrittene Sprachverwendung (261-4041S) 
LOCATION:Altes Rathaus, Raum 3.2, Marktplatz 24, 97828 Marktheidenfeld
END:VEVENT
BEGIN:VEVENT
DTSTAMP:20260419T161245
DTSTART;TZID=Europe/Berlin:20260709T100000
DTEND;TZID=Europe/Berlin:20260709T113000
UID:261-4041S-20260709T100000@VHSMARKTHEIDENFELD
SUMMARY:English Conversation B1.2  Weiterführung fortgeschrittene Sprachverwendung (261-4041S) 
LOCATION:Altes Rathaus, Raum 3.2, Marktplatz 24, 97828 Marktheidenfeld
END:VEVENT
BEGIN:VEVENT
DTSTAMP:20260419T161245
DTSTART;TZID=Europe/Berlin:20260716T100000
DTEND;TZID=Europe/Berlin:20260716T113000
UID:261-4041S-20260716T100000@VHSMARKTHEIDENFELD
SUMMARY:English Conversation B1.2  Weiterführung fortgeschrittene Sprachverwendung (261-4041S) 
LOCATION:Altes Rathaus, Raum 3.2, Marktplatz 24, 97828 Marktheidenfeld
END:VEVENT
BEGIN:VEVENT
DTSTAMP:20260419T161245
DTSTART;TZID=Europe/Berlin:20260723T100000
DTEND;TZID=Europe/Berlin:20260723T113000
UID:261-4041S-20260723T100000@VHSMARKTHEIDENFELD
SUMMARY:English Conversation B1.2  Weiterführung fortgeschrittene Sprachverwendung (261-4041S) 
LOCATION:Altes Rathaus, Raum 3.2, Marktplatz 24, 97828 Marktheidenfeld
END:VEVENT
END:VCALENDAR