BEGIN:VCALENDAR
VERSION:2.0
PRODID:https://www.kufer.de/kuferweb / DE
METHOD:PUBLISH
CALSCALE:GREGORIAN
X-WR-TIMEZONE:Europe/Berlin
BEGIN:VTIMEZONE
TZID:Europe/Berlin
X-LIC-LOCATION:Europe/Berlin
BEGIN:DAYLIGHT
TZOFFSETFROM:+0100
TZOFFSETTO:+0200
TZNAME:CEST
DTSTART:19700329T020000
RRULE:FREQ=YEARLY;INTERVAL=1;BYDAY=-1SU;BYMONTH=3
END:DAYLIGHT
BEGIN:STANDARD
TZOFFSETFROM:+0200
TZOFFSETTO:+0100
TZNAME:CET
DTSTART:19701025T030000
RRULE:FREQ=YEARLY;INTERVAL=1;BYDAY=-1SU;BYMONTH=10
END:STANDARD
END:VTIMEZONE
BEGIN:VEVENT
DTSTAMP:20260422T151822
DTSTART;TZID=Europe/Berlin:20260226T190000
DTEND;TZID=Europe/Berlin:20260226T210000
UID:261-3192-20260226T190000@VHSMARKTHEIDENFELD
SUMMARY:Taijiquan: Für Wiedereinsteigende und Fortgeschrittene (261-3192) 
LOCATION:Altes Rathaus, Raum 2.1, Marktplatz 24, 97828 Marktheidenfeld
END:VEVENT
BEGIN:VEVENT
DTSTAMP:20260422T151822
DTSTART;TZID=Europe/Berlin:20260305T190000
DTEND;TZID=Europe/Berlin:20260305T210000
UID:261-3192-20260305T190000@VHSMARKTHEIDENFELD
SUMMARY:Taijiquan: Für Wiedereinsteigende und Fortgeschrittene (261-3192) 
LOCATION:Altes Rathaus, Raum 2.1, Marktplatz 24, 97828 Marktheidenfeld
END:VEVENT
BEGIN:VEVENT
DTSTAMP:20260422T151822
DTSTART;TZID=Europe/Berlin:20260312T190000
DTEND;TZID=Europe/Berlin:20260312T210000
UID:261-3192-20260312T190000@VHSMARKTHEIDENFELD
SUMMARY:Taijiquan: Für Wiedereinsteigende und Fortgeschrittene (261-3192) 
LOCATION:Altes Rathaus, Raum 2.1, Marktplatz 24, 97828 Marktheidenfeld
END:VEVENT
BEGIN:VEVENT
DTSTAMP:20260422T151822
DTSTART;TZID=Europe/Berlin:20260319T190000
DTEND;TZID=Europe/Berlin:20260319T210000
UID:261-3192-20260319T190000@VHSMARKTHEIDENFELD
SUMMARY:Taijiquan: Für Wiedereinsteigende und Fortgeschrittene (261-3192) 
LOCATION:Altes Rathaus, Raum 2.1, Marktplatz 24, 97828 Marktheidenfeld
END:VEVENT
BEGIN:VEVENT
DTSTAMP:20260422T151822
DTSTART;TZID=Europe/Berlin:20260326T190000
DTEND;TZID=Europe/Berlin:20260326T210000
UID:261-3192-20260326T190000@VHSMARKTHEIDENFELD
SUMMARY:Taijiquan: Für Wiedereinsteigende und Fortgeschrittene (261-3192) 
LOCATION:Altes Rathaus, Raum 2.1, Marktplatz 24, 97828 Marktheidenfeld
END:VEVENT
BEGIN:VEVENT
DTSTAMP:20260422T151822
DTSTART;TZID=Europe/Berlin:20260416T190000
DTEND;TZID=Europe/Berlin:20260416T210000
UID:261-3192-20260416T190000@VHSMARKTHEIDENFELD
SUMMARY:Taijiquan: Für Wiedereinsteigende und Fortgeschrittene (261-3192) 
LOCATION:Altes Rathaus, Raum 2.1, Marktplatz 24, 97828 Marktheidenfeld
END:VEVENT
BEGIN:VEVENT
DTSTAMP:20260422T151822
DTSTART;TZID=Europe/Berlin:20260423T190000
DTEND;TZID=Europe/Berlin:20260423T210000
UID:261-3192-20260423T190000@VHSMARKTHEIDENFELD
SUMMARY:Taijiquan: Für Wiedereinsteigende und Fortgeschrittene (261-3192) 
LOCATION:Altes Rathaus, Raum 2.1, Marktplatz 24, 97828 Marktheidenfeld
END:VEVENT
BEGIN:VEVENT
DTSTAMP:20260422T151822
DTSTART;TZID=Europe/Berlin:20260430T190000
DTEND;TZID=Europe/Berlin:20260430T210000
UID:261-3192-20260430T190000@VHSMARKTHEIDENFELD
SUMMARY:Taijiquan: Für Wiedereinsteigende und Fortgeschrittene (261-3192) 
LOCATION:Altes Rathaus, Raum 2.1, Marktplatz 24, 97828 Marktheidenfeld
END:VEVENT
BEGIN:VEVENT
DTSTAMP:20260422T151822
DTSTART;TZID=Europe/Berlin:20260507T190000
DTEND;TZID=Europe/Berlin:20260507T210000
UID:261-3192-20260507T190000@VHSMARKTHEIDENFELD
SUMMARY:Taijiquan: Für Wiedereinsteigende und Fortgeschrittene (261-3192) 
LOCATION:Altes Rathaus, Raum 2.1, Marktplatz 24, 97828 Marktheidenfeld
END:VEVENT
BEGIN:VEVENT
DTSTAMP:20260422T151822
DTSTART;TZID=Europe/Berlin:20260521T190000
DTEND;TZID=Europe/Berlin:20260521T210000
UID:261-3192-20260521T190000@VHSMARKTHEIDENFELD
SUMMARY:Taijiquan: Für Wiedereinsteigende und Fortgeschrittene (261-3192) 
LOCATION:Altes Rathaus, Raum 2.1, Marktplatz 24, 97828 Marktheidenfeld
END:VEVENT
BEGIN:VEVENT
DTSTAMP:20260422T151822
DTSTART;TZID=Europe/Berlin:20260611T190000
DTEND;TZID=Europe/Berlin:20260611T210000
UID:261-3192-20260611T190000@VHSMARKTHEIDENFELD
SUMMARY:Taijiquan: Für Wiedereinsteigende und Fortgeschrittene (261-3192) 
LOCATION:Altes Rathaus, Raum 2.1, Marktplatz 24, 97828 Marktheidenfeld
END:VEVENT
BEGIN:VEVENT
DTSTAMP:20260422T151822
DTSTART;TZID=Europe/Berlin:20260618T190000
DTEND;TZID=Europe/Berlin:20260618T210000
UID:261-3192-20260618T190000@VHSMARKTHEIDENFELD
SUMMARY:Taijiquan: Für Wiedereinsteigende und Fortgeschrittene (261-3192) 
LOCATION:Altes Rathaus, Raum 2.1, Marktplatz 24, 97828 Marktheidenfeld
END:VEVENT
BEGIN:VEVENT
DTSTAMP:20260422T151822
DTSTART;TZID=Europe/Berlin:20260625T190000
DTEND;TZID=Europe/Berlin:20260625T210000
UID:261-3192-20260625T190000@VHSMARKTHEIDENFELD
SUMMARY:Taijiquan: Für Wiedereinsteigende und Fortgeschrittene (261-3192) 
LOCATION:Altes Rathaus, Raum 2.1, Marktplatz 24, 97828 Marktheidenfeld
END:VEVENT
END:VCALENDAR