BEGIN:VCALENDAR
VERSION:2.0
PRODID:https://www.kufer.de/kuferweb / DE
METHOD:PUBLISH
CALSCALE:GREGORIAN
X-WR-TIMEZONE:Europe/Berlin
BEGIN:VTIMEZONE
TZID:Europe/Berlin
X-LIC-LOCATION:Europe/Berlin
BEGIN:DAYLIGHT
TZOFFSETFROM:+0100
TZOFFSETTO:+0200
TZNAME:CEST
DTSTART:19700329T020000
RRULE:FREQ=YEARLY;INTERVAL=1;BYDAY=-1SU;BYMONTH=3
END:DAYLIGHT
BEGIN:STANDARD
TZOFFSETFROM:+0200
TZOFFSETTO:+0100
TZNAME:CET
DTSTART:19701025T030000
RRULE:FREQ=YEARLY;INTERVAL=1;BYDAY=-1SU;BYMONTH=10
END:STANDARD
END:VTIMEZONE
BEGIN:VEVENT
DTSTAMP:20260424T122149
DTSTART;TZID=Europe/Berlin:20260317T170000
DTEND;TZID=Europe/Berlin:20260317T180000
UID:261-3191-20260317T170000@VHSMARKTHEIDENFELD
SUMMARY:Qigong: Die 8 Brokate Harmonie und Energie im Alltag (261-3191) 
LOCATION:Altes Rathaus, Raum 3.1, Marktplatz 24, 97828 Marktheidenfeld
END:VEVENT
BEGIN:VEVENT
DTSTAMP:20260424T122149
DTSTART;TZID=Europe/Berlin:20260324T170000
DTEND;TZID=Europe/Berlin:20260324T180000
UID:261-3191-20260324T170000@VHSMARKTHEIDENFELD
SUMMARY:Qigong: Die 8 Brokate Harmonie und Energie im Alltag (261-3191) 
LOCATION:Altes Rathaus, Raum 3.1, Marktplatz 24, 97828 Marktheidenfeld
END:VEVENT
BEGIN:VEVENT
DTSTAMP:20260424T122149
DTSTART;TZID=Europe/Berlin:20260414T170000
DTEND;TZID=Europe/Berlin:20260414T180000
UID:261-3191-20260414T170000@VHSMARKTHEIDENFELD
SUMMARY:Qigong: Die 8 Brokate Harmonie und Energie im Alltag (261-3191) 
LOCATION:Altes Rathaus, Raum 3.1, Marktplatz 24, 97828 Marktheidenfeld
END:VEVENT
BEGIN:VEVENT
DTSTAMP:20260424T122149
DTSTART;TZID=Europe/Berlin:20260421T170000
DTEND;TZID=Europe/Berlin:20260421T180000
UID:261-3191-20260421T170000@VHSMARKTHEIDENFELD
SUMMARY:Qigong: Die 8 Brokate Harmonie und Energie im Alltag (261-3191) 
LOCATION:Altes Rathaus, Raum 3.1, Marktplatz 24, 97828 Marktheidenfeld
END:VEVENT
BEGIN:VEVENT
DTSTAMP:20260424T122149
DTSTART;TZID=Europe/Berlin:20260428T170000
DTEND;TZID=Europe/Berlin:20260428T180000
UID:261-3191-20260428T170000@VHSMARKTHEIDENFELD
SUMMARY:Qigong: Die 8 Brokate Harmonie und Energie im Alltag (261-3191) 
LOCATION:Altes Rathaus, Raum 3.1, Marktplatz 24, 97828 Marktheidenfeld
END:VEVENT
BEGIN:VEVENT
DTSTAMP:20260424T122149
DTSTART;TZID=Europe/Berlin:20260505T170000
DTEND;TZID=Europe/Berlin:20260505T180000
UID:261-3191-20260505T170000@VHSMARKTHEIDENFELD
SUMMARY:Qigong: Die 8 Brokate Harmonie und Energie im Alltag (261-3191) 
LOCATION:Altes Rathaus, Raum 3.1, Marktplatz 24, 97828 Marktheidenfeld
END:VEVENT
BEGIN:VEVENT
DTSTAMP:20260424T122149
DTSTART;TZID=Europe/Berlin:20260512T170000
DTEND;TZID=Europe/Berlin:20260512T180000
UID:261-3191-20260512T170000@VHSMARKTHEIDENFELD
SUMMARY:Qigong: Die 8 Brokate Harmonie und Energie im Alltag (261-3191) 
LOCATION:Altes Rathaus, Raum 3.1, Marktplatz 24, 97828 Marktheidenfeld
END:VEVENT
BEGIN:VEVENT
DTSTAMP:20260424T122149
DTSTART;TZID=Europe/Berlin:20260519T170000
DTEND;TZID=Europe/Berlin:20260519T180000
UID:261-3191-20260519T170000@VHSMARKTHEIDENFELD
SUMMARY:Qigong: Die 8 Brokate Harmonie und Energie im Alltag (261-3191) 
LOCATION:Altes Rathaus, Raum 3.1, Marktplatz 24, 97828 Marktheidenfeld
END:VEVENT
END:VCALENDAR