BEGIN:VCALENDAR
VERSION:2.0
PRODID:https://www.kufer.de/kuferweb / DE
METHOD:PUBLISH
CALSCALE:GREGORIAN
X-WR-TIMEZONE:Europe/Berlin
BEGIN:VTIMEZONE
TZID:Europe/Berlin
X-LIC-LOCATION:Europe/Berlin
BEGIN:DAYLIGHT
TZOFFSETFROM:+0100
TZOFFSETTO:+0200
TZNAME:CEST
DTSTART:19700329T020000
RRULE:FREQ=YEARLY;INTERVAL=1;BYDAY=-1SU;BYMONTH=3
END:DAYLIGHT
BEGIN:STANDARD
TZOFFSETFROM:+0200
TZOFFSETTO:+0100
TZNAME:CET
DTSTART:19701025T030000
RRULE:FREQ=YEARLY;INTERVAL=1;BYDAY=-1SU;BYMONTH=10
END:STANDARD
END:VTIMEZONE
BEGIN:VEVENT
DTSTAMP:20260422T083036
DTSTART;TZID=Europe/Berlin:20260312T194500
DTEND;TZID=Europe/Berlin:20260312T204500
UID:261-3162-20260312T194500@VHSMARKTHEIDENFELD
SUMMARY:Sanftes Yoga -  Um sich wieder mit seinem Körper zu verbinden (261-3162) 
LOCATION:Altes Rathaus, Raum 4.1, Marktplatz 24, 97828 Marktheidenfeld
END:VEVENT
BEGIN:VEVENT
DTSTAMP:20260422T083036
DTSTART;TZID=Europe/Berlin:20260326T194500
DTEND;TZID=Europe/Berlin:20260326T204500
UID:261-3162-20260326T194500@VHSMARKTHEIDENFELD
SUMMARY:Sanftes Yoga -  Um sich wieder mit seinem Körper zu verbinden (261-3162) 
LOCATION:Altes Rathaus, Raum 4.1, Marktplatz 24, 97828 Marktheidenfeld
END:VEVENT
BEGIN:VEVENT
DTSTAMP:20260422T083036
DTSTART;TZID=Europe/Berlin:20260416T194500
DTEND;TZID=Europe/Berlin:20260416T204500
UID:261-3162-20260416T194500@VHSMARKTHEIDENFELD
SUMMARY:Sanftes Yoga -  Um sich wieder mit seinem Körper zu verbinden (261-3162) 
LOCATION:Altes Rathaus, Raum 4.1, Marktplatz 24, 97828 Marktheidenfeld
END:VEVENT
BEGIN:VEVENT
DTSTAMP:20260422T083036
DTSTART;TZID=Europe/Berlin:20260423T194500
DTEND;TZID=Europe/Berlin:20260423T204500
UID:261-3162-20260423T194500@VHSMARKTHEIDENFELD
SUMMARY:Sanftes Yoga -  Um sich wieder mit seinem Körper zu verbinden (261-3162) 
LOCATION:Altes Rathaus, Raum 4.1, Marktplatz 24, 97828 Marktheidenfeld
END:VEVENT
BEGIN:VEVENT
DTSTAMP:20260422T083036
DTSTART;TZID=Europe/Berlin:20260430T194500
DTEND;TZID=Europe/Berlin:20260430T204500
UID:261-3162-20260430T194500@VHSMARKTHEIDENFELD
SUMMARY:Sanftes Yoga -  Um sich wieder mit seinem Körper zu verbinden (261-3162) 
LOCATION:Altes Rathaus, Raum 4.1, Marktplatz 24, 97828 Marktheidenfeld
END:VEVENT
BEGIN:VEVENT
DTSTAMP:20260422T083036
DTSTART;TZID=Europe/Berlin:20260507T194500
DTEND;TZID=Europe/Berlin:20260507T204500
UID:261-3162-20260507T194500@VHSMARKTHEIDENFELD
SUMMARY:Sanftes Yoga -  Um sich wieder mit seinem Körper zu verbinden (261-3162) 
LOCATION:Altes Rathaus, Raum 4.1, Marktplatz 24, 97828 Marktheidenfeld
END:VEVENT
END:VCALENDAR