BEGIN:VCALENDAR
VERSION:2.0
PRODID:https://www.kufer.de/kuferweb / DE
METHOD:PUBLISH
CALSCALE:GREGORIAN
X-WR-TIMEZONE:Europe/Berlin
BEGIN:VTIMEZONE
TZID:Europe/Berlin
X-LIC-LOCATION:Europe/Berlin
BEGIN:DAYLIGHT
TZOFFSETFROM:+0100
TZOFFSETTO:+0200
TZNAME:CEST
DTSTART:19700329T020000
RRULE:FREQ=YEARLY;INTERVAL=1;BYDAY=-1SU;BYMONTH=3
END:DAYLIGHT
BEGIN:STANDARD
TZOFFSETFROM:+0200
TZOFFSETTO:+0100
TZNAME:CET
DTSTART:19701025T030000
RRULE:FREQ=YEARLY;INTERVAL=1;BYDAY=-1SU;BYMONTH=10
END:STANDARD
END:VTIMEZONE
BEGIN:VEVENT
DTSTAMP:20260422T082949
DTSTART;TZID=Europe/Berlin:20260225T173000
DTEND;TZID=Europe/Berlin:20260225T190000
UID:261-3161-20260225T173000@VHSMARKTHEIDENFELD
SUMMARY:Sanftes Yoga 65+ (261-3161) 
LOCATION:Altes Rathaus, Raum 4.1, Marktplatz 24, 97828 Marktheidenfeld
END:VEVENT
BEGIN:VEVENT
DTSTAMP:20260422T082949
DTSTART;TZID=Europe/Berlin:20260304T173000
DTEND;TZID=Europe/Berlin:20260304T190000
UID:261-3161-20260304T173000@VHSMARKTHEIDENFELD
SUMMARY:Sanftes Yoga 65+ (261-3161) 
LOCATION:Altes Rathaus, Raum 4.1, Marktplatz 24, 97828 Marktheidenfeld
END:VEVENT
BEGIN:VEVENT
DTSTAMP:20260422T082949
DTSTART;TZID=Europe/Berlin:20260311T173000
DTEND;TZID=Europe/Berlin:20260311T190000
UID:261-3161-20260311T173000@VHSMARKTHEIDENFELD
SUMMARY:Sanftes Yoga 65+ (261-3161) 
LOCATION:Altes Rathaus, Raum 4.1, Marktplatz 24, 97828 Marktheidenfeld
END:VEVENT
BEGIN:VEVENT
DTSTAMP:20260422T082949
DTSTART;TZID=Europe/Berlin:20260325T173000
DTEND;TZID=Europe/Berlin:20260325T190000
UID:261-3161-20260325T173000@VHSMARKTHEIDENFELD
SUMMARY:Sanftes Yoga 65+ (261-3161) 
LOCATION:Altes Rathaus, Raum 4.1, Marktplatz 24, 97828 Marktheidenfeld
END:VEVENT
BEGIN:VEVENT
DTSTAMP:20260422T082949
DTSTART;TZID=Europe/Berlin:20260415T173000
DTEND;TZID=Europe/Berlin:20260415T190000
UID:261-3161-20260415T173000@VHSMARKTHEIDENFELD
SUMMARY:Sanftes Yoga 65+ (261-3161) 
LOCATION:Altes Rathaus, Raum 4.1, Marktplatz 24, 97828 Marktheidenfeld
END:VEVENT
BEGIN:VEVENT
DTSTAMP:20260422T082949
DTSTART;TZID=Europe/Berlin:20260422T173000
DTEND;TZID=Europe/Berlin:20260422T190000
UID:261-3161-20260422T173000@VHSMARKTHEIDENFELD
SUMMARY:Sanftes Yoga 65+ (261-3161) 
LOCATION:Altes Rathaus, Raum 4.1, Marktplatz 24, 97828 Marktheidenfeld
END:VEVENT
BEGIN:VEVENT
DTSTAMP:20260422T082949
DTSTART;TZID=Europe/Berlin:20260429T173000
DTEND;TZID=Europe/Berlin:20260429T190000
UID:261-3161-20260429T173000@VHSMARKTHEIDENFELD
SUMMARY:Sanftes Yoga 65+ (261-3161) 
LOCATION:Altes Rathaus, Raum 4.1, Marktplatz 24, 97828 Marktheidenfeld
END:VEVENT
BEGIN:VEVENT
DTSTAMP:20260422T082949
DTSTART;TZID=Europe/Berlin:20260506T173000
DTEND;TZID=Europe/Berlin:20260506T190000
UID:261-3161-20260506T173000@VHSMARKTHEIDENFELD
SUMMARY:Sanftes Yoga 65+ (261-3161) 
LOCATION:Altes Rathaus, Raum 4.1, Marktplatz 24, 97828 Marktheidenfeld
END:VEVENT
BEGIN:VEVENT
DTSTAMP:20260422T082949
DTSTART;TZID=Europe/Berlin:20260520T173000
DTEND;TZID=Europe/Berlin:20260520T190000
UID:261-3161-20260520T173000@VHSMARKTHEIDENFELD
SUMMARY:Sanftes Yoga 65+ (261-3161) 
LOCATION:Altes Rathaus, Raum 4.1, Marktplatz 24, 97828 Marktheidenfeld
END:VEVENT
BEGIN:VEVENT
DTSTAMP:20260422T082949
DTSTART;TZID=Europe/Berlin:20260617T173000
DTEND;TZID=Europe/Berlin:20260617T190000
UID:261-3161-20260617T173000@VHSMARKTHEIDENFELD
SUMMARY:Sanftes Yoga 65+ (261-3161) 
LOCATION:Altes Rathaus, Raum 4.1, Marktplatz 24, 97828 Marktheidenfeld
END:VEVENT
BEGIN:VEVENT
DTSTAMP:20260422T082949
DTSTART;TZID=Europe/Berlin:20260624T173000
DTEND;TZID=Europe/Berlin:20260624T190000
UID:261-3161-20260624T173000@VHSMARKTHEIDENFELD
SUMMARY:Sanftes Yoga 65+ (261-3161) 
LOCATION:Altes Rathaus, Raum 4.1, Marktplatz 24, 97828 Marktheidenfeld
END:VEVENT
BEGIN:VEVENT
DTSTAMP:20260422T082949
DTSTART;TZID=Europe/Berlin:20260701T173000
DTEND;TZID=Europe/Berlin:20260701T190000
UID:261-3161-20260701T173000@VHSMARKTHEIDENFELD
SUMMARY:Sanftes Yoga 65+ (261-3161) 
LOCATION:Altes Rathaus, Raum 4.1, Marktplatz 24, 97828 Marktheidenfeld
END:VEVENT
END:VCALENDAR