BEGIN:VCALENDAR
VERSION:2.0
PRODID:https://www.kufer.de/kuferweb / DE
METHOD:PUBLISH
CALSCALE:GREGORIAN
X-WR-TIMEZONE:Europe/Berlin
BEGIN:VTIMEZONE
TZID:Europe/Berlin
X-LIC-LOCATION:Europe/Berlin
BEGIN:DAYLIGHT
TZOFFSETFROM:+0100
TZOFFSETTO:+0200
TZNAME:CEST
DTSTART:19700329T020000
RRULE:FREQ=YEARLY;INTERVAL=1;BYDAY=-1SU;BYMONTH=3
END:DAYLIGHT
BEGIN:STANDARD
TZOFFSETFROM:+0200
TZOFFSETTO:+0100
TZNAME:CET
DTSTART:19701025T030000
RRULE:FREQ=YEARLY;INTERVAL=1;BYDAY=-1SU;BYMONTH=10
END:STANDARD
END:VTIMEZONE
BEGIN:VEVENT
DTSTAMP:20260422T101804
DTSTART;TZID=Europe/Berlin:20260312T180000
DTEND;TZID=Europe/Berlin:20260312T193000
UID:261-3159-20260312T180000@VHSMARKTHEIDENFELD
SUMMARY:Yin & Yang Yoga: Eine ganzheitliche & entspannende Yogapraxis für Yogis mit ersten Erfahrungen (261-3159) 
LOCATION:Altes Rathaus, Raum 4.1, Marktplatz 24, 97828 Marktheidenfeld
END:VEVENT
BEGIN:VEVENT
DTSTAMP:20260422T101804
DTSTART;TZID=Europe/Berlin:20260326T180000
DTEND;TZID=Europe/Berlin:20260326T193000
UID:261-3159-20260326T180000@VHSMARKTHEIDENFELD
SUMMARY:Yin & Yang Yoga: Eine ganzheitliche & entspannende Yogapraxis für Yogis mit ersten Erfahrungen (261-3159) 
LOCATION:Altes Rathaus, Raum 4.1, Marktplatz 24, 97828 Marktheidenfeld
END:VEVENT
BEGIN:VEVENT
DTSTAMP:20260422T101804
DTSTART;TZID=Europe/Berlin:20260416T180000
DTEND;TZID=Europe/Berlin:20260416T193000
UID:261-3159-20260416T180000@VHSMARKTHEIDENFELD
SUMMARY:Yin & Yang Yoga: Eine ganzheitliche & entspannende Yogapraxis für Yogis mit ersten Erfahrungen (261-3159) 
LOCATION:Altes Rathaus, Raum 4.1, Marktplatz 24, 97828 Marktheidenfeld
END:VEVENT
BEGIN:VEVENT
DTSTAMP:20260422T101804
DTSTART;TZID=Europe/Berlin:20260423T180000
DTEND;TZID=Europe/Berlin:20260423T193000
UID:261-3159-20260423T180000@VHSMARKTHEIDENFELD
SUMMARY:Yin & Yang Yoga: Eine ganzheitliche & entspannende Yogapraxis für Yogis mit ersten Erfahrungen (261-3159) 
LOCATION:Altes Rathaus, Raum 4.1, Marktplatz 24, 97828 Marktheidenfeld
END:VEVENT
BEGIN:VEVENT
DTSTAMP:20260422T101804
DTSTART;TZID=Europe/Berlin:20260430T180000
DTEND;TZID=Europe/Berlin:20260430T193000
UID:261-3159-20260430T180000@VHSMARKTHEIDENFELD
SUMMARY:Yin & Yang Yoga: Eine ganzheitliche & entspannende Yogapraxis für Yogis mit ersten Erfahrungen (261-3159) 
LOCATION:Altes Rathaus, Raum 4.1, Marktplatz 24, 97828 Marktheidenfeld
END:VEVENT
BEGIN:VEVENT
DTSTAMP:20260422T101804
DTSTART;TZID=Europe/Berlin:20260507T180000
DTEND;TZID=Europe/Berlin:20260507T193000
UID:261-3159-20260507T180000@VHSMARKTHEIDENFELD
SUMMARY:Yin & Yang Yoga: Eine ganzheitliche & entspannende Yogapraxis für Yogis mit ersten Erfahrungen (261-3159) 
LOCATION:Altes Rathaus, Raum 4.1, Marktplatz 24, 97828 Marktheidenfeld
END:VEVENT
END:VCALENDAR