BEGIN:VCALENDAR
VERSION:2.0
PRODID:https://www.kufer.de/kuferweb / DE
METHOD:PUBLISH
CALSCALE:GREGORIAN
X-WR-TIMEZONE:Europe/Berlin
BEGIN:VTIMEZONE
TZID:Europe/Berlin
X-LIC-LOCATION:Europe/Berlin
BEGIN:DAYLIGHT
TZOFFSETFROM:+0100
TZOFFSETTO:+0200
TZNAME:CEST
DTSTART:19700329T020000
RRULE:FREQ=YEARLY;INTERVAL=1;BYDAY=-1SU;BYMONTH=3
END:DAYLIGHT
BEGIN:STANDARD
TZOFFSETFROM:+0200
TZOFFSETTO:+0100
TZNAME:CET
DTSTART:19701025T030000
RRULE:FREQ=YEARLY;INTERVAL=1;BYDAY=-1SU;BYMONTH=10
END:STANDARD
END:VTIMEZONE
BEGIN:VEVENT
DTSTAMP:20260422T084627
DTSTART;TZID=Europe/Berlin:20260309T194500
DTEND;TZID=Europe/Berlin:20260309T211500
UID:261-3157-20260309T194500@VHSMARKTHEIDENFELD
SUMMARY:Yin & Yang Yoga: Eine ganzheitliche & entspannende Yogapraxis für Yogis mit ersten Erfahrungen (261-3157) 
LOCATION:Altes Rathaus, Raum 4.1, Marktplatz 24, 97828 Marktheidenfeld
END:VEVENT
BEGIN:VEVENT
DTSTAMP:20260422T084627
DTSTART;TZID=Europe/Berlin:20260316T194500
DTEND;TZID=Europe/Berlin:20260316T211500
UID:261-3157-20260316T194500@VHSMARKTHEIDENFELD
SUMMARY:Yin & Yang Yoga: Eine ganzheitliche & entspannende Yogapraxis für Yogis mit ersten Erfahrungen (261-3157) 
LOCATION:Altes Rathaus, Raum 4.1, Marktplatz 24, 97828 Marktheidenfeld
END:VEVENT
BEGIN:VEVENT
DTSTAMP:20260422T084627
DTSTART;TZID=Europe/Berlin:20260323T194500
DTEND;TZID=Europe/Berlin:20260323T211500
UID:261-3157-20260323T194500@VHSMARKTHEIDENFELD
SUMMARY:Yin & Yang Yoga: Eine ganzheitliche & entspannende Yogapraxis für Yogis mit ersten Erfahrungen (261-3157) 
LOCATION:Altes Rathaus, Raum 4.1, Marktplatz 24, 97828 Marktheidenfeld
END:VEVENT
BEGIN:VEVENT
DTSTAMP:20260422T084627
DTSTART;TZID=Europe/Berlin:20260413T194500
DTEND;TZID=Europe/Berlin:20260413T211500
UID:261-3157-20260413T194500@VHSMARKTHEIDENFELD
SUMMARY:Yin & Yang Yoga: Eine ganzheitliche & entspannende Yogapraxis für Yogis mit ersten Erfahrungen (261-3157) 
LOCATION:Altes Rathaus, Raum 4.1, Marktplatz 24, 97828 Marktheidenfeld
END:VEVENT
BEGIN:VEVENT
DTSTAMP:20260422T084627
DTSTART;TZID=Europe/Berlin:20260420T194500
DTEND;TZID=Europe/Berlin:20260420T211500
UID:261-3157-20260420T194500@VHSMARKTHEIDENFELD
SUMMARY:Yin & Yang Yoga: Eine ganzheitliche & entspannende Yogapraxis für Yogis mit ersten Erfahrungen (261-3157) 
LOCATION:Altes Rathaus, Raum 4.1, Marktplatz 24, 97828 Marktheidenfeld
END:VEVENT
BEGIN:VEVENT
DTSTAMP:20260422T084627
DTSTART;TZID=Europe/Berlin:20260427T194500
DTEND;TZID=Europe/Berlin:20260427T211500
UID:261-3157-20260427T194500@VHSMARKTHEIDENFELD
SUMMARY:Yin & Yang Yoga: Eine ganzheitliche & entspannende Yogapraxis für Yogis mit ersten Erfahrungen (261-3157) 
LOCATION:Altes Rathaus, Raum 4.1, Marktplatz 24, 97828 Marktheidenfeld
END:VEVENT
BEGIN:VEVENT
DTSTAMP:20260422T084627
DTSTART;TZID=Europe/Berlin:20260504T194500
DTEND;TZID=Europe/Berlin:20260504T211500
UID:261-3157-20260504T194500@VHSMARKTHEIDENFELD
SUMMARY:Yin & Yang Yoga: Eine ganzheitliche & entspannende Yogapraxis für Yogis mit ersten Erfahrungen (261-3157) 
LOCATION:Altes Rathaus, Raum 4.1, Marktplatz 24, 97828 Marktheidenfeld
END:VEVENT
BEGIN:VEVENT
DTSTAMP:20260422T084627
DTSTART;TZID=Europe/Berlin:20260511T194500
DTEND;TZID=Europe/Berlin:20260511T211500
UID:261-3157-20260511T194500@VHSMARKTHEIDENFELD
SUMMARY:Yin & Yang Yoga: Eine ganzheitliche & entspannende Yogapraxis für Yogis mit ersten Erfahrungen (261-3157) 
LOCATION:Altes Rathaus, Raum 4.1, Marktplatz 24, 97828 Marktheidenfeld
END:VEVENT
BEGIN:VEVENT
DTSTAMP:20260422T084627
DTSTART;TZID=Europe/Berlin:20260601T194500
DTEND;TZID=Europe/Berlin:20260601T211500
UID:261-3157-20260601T194500@VHSMARKTHEIDENFELD
SUMMARY:Yin & Yang Yoga: Eine ganzheitliche & entspannende Yogapraxis für Yogis mit ersten Erfahrungen (261-3157) 
LOCATION:Altes Rathaus, Raum 4.1, Marktplatz 24, 97828 Marktheidenfeld
END:VEVENT
END:VCALENDAR