BEGIN:VCALENDAR
VERSION:2.0
PRODID:https://www.kufer.de/kuferweb / DE
METHOD:PUBLISH
CALSCALE:GREGORIAN
X-WR-TIMEZONE:Europe/Berlin
BEGIN:VTIMEZONE
TZID:Europe/Berlin
X-LIC-LOCATION:Europe/Berlin
BEGIN:DAYLIGHT
TZOFFSETFROM:+0100
TZOFFSETTO:+0200
TZNAME:CEST
DTSTART:19700329T020000
RRULE:FREQ=YEARLY;INTERVAL=1;BYDAY=-1SU;BYMONTH=3
END:DAYLIGHT
BEGIN:STANDARD
TZOFFSETFROM:+0200
TZOFFSETTO:+0100
TZNAME:CET
DTSTART:19701025T030000
RRULE:FREQ=YEARLY;INTERVAL=1;BYDAY=-1SU;BYMONTH=10
END:STANDARD
END:VTIMEZONE
BEGIN:VEVENT
DTSTAMP:20260422T134024
DTSTART;TZID=Europe/Berlin:20260227T092000
DTEND;TZID=Europe/Berlin:20260227T102000
UID:261-3142-20260227T092000@VHSMARKTHEIDENFELD
SUMMARY:Bodega Moves® (261-3142) 
LOCATION:Altes Rathaus, Raum 3.1, Marktplatz 24, 97828 Marktheidenfeld
END:VEVENT
BEGIN:VEVENT
DTSTAMP:20260422T134024
DTSTART;TZID=Europe/Berlin:20260306T092000
DTEND;TZID=Europe/Berlin:20260306T102000
UID:261-3142-20260306T092000@VHSMARKTHEIDENFELD
SUMMARY:Bodega Moves® (261-3142) 
LOCATION:Altes Rathaus, Raum 3.1, Marktplatz 24, 97828 Marktheidenfeld
END:VEVENT
BEGIN:VEVENT
DTSTAMP:20260422T134024
DTSTART;TZID=Europe/Berlin:20260313T092000
DTEND;TZID=Europe/Berlin:20260313T102000
UID:261-3142-20260313T092000@VHSMARKTHEIDENFELD
SUMMARY:Bodega Moves® (261-3142) 
LOCATION:Altes Rathaus, Raum 3.1, Marktplatz 24, 97828 Marktheidenfeld
END:VEVENT
BEGIN:VEVENT
DTSTAMP:20260422T134024
DTSTART;TZID=Europe/Berlin:20260320T092000
DTEND;TZID=Europe/Berlin:20260320T102000
UID:261-3142-20260320T092000@VHSMARKTHEIDENFELD
SUMMARY:Bodega Moves® (261-3142) 
LOCATION:Altes Rathaus, Raum 3.1, Marktplatz 24, 97828 Marktheidenfeld
END:VEVENT
BEGIN:VEVENT
DTSTAMP:20260422T134024
DTSTART;TZID=Europe/Berlin:20260327T092000
DTEND;TZID=Europe/Berlin:20260327T102000
UID:261-3142-20260327T092000@VHSMARKTHEIDENFELD
SUMMARY:Bodega Moves® (261-3142) 
LOCATION:Altes Rathaus, Raum 3.1, Marktplatz 24, 97828 Marktheidenfeld
END:VEVENT
BEGIN:VEVENT
DTSTAMP:20260422T134024
DTSTART;TZID=Europe/Berlin:20260508T092000
DTEND;TZID=Europe/Berlin:20260508T102000
UID:261-3142-20260508T092000@VHSMARKTHEIDENFELD
SUMMARY:Bodega Moves® (261-3142) 
LOCATION:Altes Rathaus, Raum 3.1, Marktplatz 24, 97828 Marktheidenfeld
END:VEVENT
BEGIN:VEVENT
DTSTAMP:20260422T134024
DTSTART;TZID=Europe/Berlin:20260515T092000
DTEND;TZID=Europe/Berlin:20260515T102000
UID:261-3142-20260515T092000@VHSMARKTHEIDENFELD
SUMMARY:Bodega Moves® (261-3142) 
LOCATION:Altes Rathaus, Raum 3.1, Marktplatz 24, 97828 Marktheidenfeld
END:VEVENT
BEGIN:VEVENT
DTSTAMP:20260422T134024
DTSTART;TZID=Europe/Berlin:20260522T092000
DTEND;TZID=Europe/Berlin:20260522T102000
UID:261-3142-20260522T092000@VHSMARKTHEIDENFELD
SUMMARY:Bodega Moves® (261-3142) 
LOCATION:Altes Rathaus, Raum 3.1, Marktplatz 24, 97828 Marktheidenfeld
END:VEVENT
END:VCALENDAR