BEGIN:VCALENDAR
VERSION:2.0
PRODID:https://www.kufer.de/kuferweb / DE
METHOD:PUBLISH
CALSCALE:GREGORIAN
X-WR-TIMEZONE:Europe/Berlin
BEGIN:VTIMEZONE
TZID:Europe/Berlin
X-LIC-LOCATION:Europe/Berlin
BEGIN:DAYLIGHT
TZOFFSETFROM:+0100
TZOFFSETTO:+0200
TZNAME:CEST
DTSTART:19700329T020000
RRULE:FREQ=YEARLY;INTERVAL=1;BYDAY=-1SU;BYMONTH=3
END:DAYLIGHT
BEGIN:STANDARD
TZOFFSETFROM:+0200
TZOFFSETTO:+0100
TZNAME:CET
DTSTART:19701025T030000
RRULE:FREQ=YEARLY;INTERVAL=1;BYDAY=-1SU;BYMONTH=10
END:STANDARD
END:VTIMEZONE
BEGIN:VEVENT
DTSTAMP:20260422T082950
DTSTART;TZID=Europe/Berlin:20260226T080000
DTEND;TZID=Europe/Berlin:20260226T090000
UID:261-3140-20260226T080000@VHSMARKTHEIDENFELD
SUMMARY:Bodyworkout trifft Postural Moves® - Onlinekurs (261-3140) 
LOCATION:digital - überall wo du gerade bist
END:VEVENT
BEGIN:VEVENT
DTSTAMP:20260422T082950
DTSTART;TZID=Europe/Berlin:20260305T080000
DTEND;TZID=Europe/Berlin:20260305T090000
UID:261-3140-20260305T080000@VHSMARKTHEIDENFELD
SUMMARY:Bodyworkout trifft Postural Moves® - Onlinekurs (261-3140) 
LOCATION:digital - überall wo du gerade bist
END:VEVENT
BEGIN:VEVENT
DTSTAMP:20260422T082950
DTSTART;TZID=Europe/Berlin:20260312T080000
DTEND;TZID=Europe/Berlin:20260312T090000
UID:261-3140-20260312T080000@VHSMARKTHEIDENFELD
SUMMARY:Bodyworkout trifft Postural Moves® - Onlinekurs (261-3140) 
LOCATION:digital - überall wo du gerade bist
END:VEVENT
BEGIN:VEVENT
DTSTAMP:20260422T082950
DTSTART;TZID=Europe/Berlin:20260319T080000
DTEND;TZID=Europe/Berlin:20260319T090000
UID:261-3140-20260319T080000@VHSMARKTHEIDENFELD
SUMMARY:Bodyworkout trifft Postural Moves® - Onlinekurs (261-3140) 
LOCATION:digital - überall wo du gerade bist
END:VEVENT
BEGIN:VEVENT
DTSTAMP:20260422T082950
DTSTART;TZID=Europe/Berlin:20260326T080000
DTEND;TZID=Europe/Berlin:20260326T090000
UID:261-3140-20260326T080000@VHSMARKTHEIDENFELD
SUMMARY:Bodyworkout trifft Postural Moves® - Onlinekurs (261-3140) 
LOCATION:digital - überall wo du gerade bist
END:VEVENT
BEGIN:VEVENT
DTSTAMP:20260422T082950
DTSTART;TZID=Europe/Berlin:20260416T080000
DTEND;TZID=Europe/Berlin:20260416T090000
UID:261-3140-20260416T080000@VHSMARKTHEIDENFELD
SUMMARY:Bodyworkout trifft Postural Moves® - Onlinekurs (261-3140) 
LOCATION:digital - überall wo du gerade bist
END:VEVENT
BEGIN:VEVENT
DTSTAMP:20260422T082950
DTSTART;TZID=Europe/Berlin:20260423T080000
DTEND;TZID=Europe/Berlin:20260423T090000
UID:261-3140-20260423T080000@VHSMARKTHEIDENFELD
SUMMARY:Bodyworkout trifft Postural Moves® - Onlinekurs (261-3140) 
LOCATION:digital - überall wo du gerade bist
END:VEVENT
BEGIN:VEVENT
DTSTAMP:20260422T082950
DTSTART;TZID=Europe/Berlin:20260430T080000
DTEND;TZID=Europe/Berlin:20260430T090000
UID:261-3140-20260430T080000@VHSMARKTHEIDENFELD
SUMMARY:Bodyworkout trifft Postural Moves® - Onlinekurs (261-3140) 
LOCATION:digital - überall wo du gerade bist
END:VEVENT
BEGIN:VEVENT
DTSTAMP:20260422T082950
DTSTART;TZID=Europe/Berlin:20260507T080000
DTEND;TZID=Europe/Berlin:20260507T090000
UID:261-3140-20260507T080000@VHSMARKTHEIDENFELD
SUMMARY:Bodyworkout trifft Postural Moves® - Onlinekurs (261-3140) 
LOCATION:digital - überall wo du gerade bist
END:VEVENT
BEGIN:VEVENT
DTSTAMP:20260422T082950
DTSTART;TZID=Europe/Berlin:20260521T080000
DTEND;TZID=Europe/Berlin:20260521T090000
UID:261-3140-20260521T080000@VHSMARKTHEIDENFELD
SUMMARY:Bodyworkout trifft Postural Moves® - Onlinekurs (261-3140) 
LOCATION:digital - überall wo du gerade bist
END:VEVENT
END:VCALENDAR