BEGIN:VCALENDAR
VERSION:2.0
PRODID:https://www.kufer.de/kuferweb / DE
METHOD:PUBLISH
CALSCALE:GREGORIAN
X-WR-TIMEZONE:Europe/Berlin
BEGIN:VTIMEZONE
TZID:Europe/Berlin
X-LIC-LOCATION:Europe/Berlin
BEGIN:DAYLIGHT
TZOFFSETFROM:+0100
TZOFFSETTO:+0200
TZNAME:CEST
DTSTART:19700329T020000
RRULE:FREQ=YEARLY;INTERVAL=1;BYDAY=-1SU;BYMONTH=3
END:DAYLIGHT
BEGIN:STANDARD
TZOFFSETFROM:+0200
TZOFFSETTO:+0100
TZNAME:CET
DTSTART:19701025T030000
RRULE:FREQ=YEARLY;INTERVAL=1;BYDAY=-1SU;BYMONTH=10
END:STANDARD
END:VTIMEZONE
BEGIN:VEVENT
DTSTAMP:20260422T151951
DTSTART;TZID=Europe/Berlin:20260226T100500
DTEND;TZID=Europe/Berlin:20260226T110500
UID:261-3125-20260226T100500@VHSMARKTHEIDENFELD
SUMMARY:Intensives Muskeltraining nach Pilates mit Faszienrolle (261-3125) 
LOCATION:Altes Rathaus, Raum 2.1, Marktplatz 24, 97828 Marktheidenfeld
END:VEVENT
BEGIN:VEVENT
DTSTAMP:20260422T151951
DTSTART;TZID=Europe/Berlin:20260305T100500
DTEND;TZID=Europe/Berlin:20260305T110500
UID:261-3125-20260305T100500@VHSMARKTHEIDENFELD
SUMMARY:Intensives Muskeltraining nach Pilates mit Faszienrolle (261-3125) 
LOCATION:Altes Rathaus, Raum 2.1, Marktplatz 24, 97828 Marktheidenfeld
END:VEVENT
BEGIN:VEVENT
DTSTAMP:20260422T151951
DTSTART;TZID=Europe/Berlin:20260312T100500
DTEND;TZID=Europe/Berlin:20260312T110500
UID:261-3125-20260312T100500@VHSMARKTHEIDENFELD
SUMMARY:Intensives Muskeltraining nach Pilates mit Faszienrolle (261-3125) 
LOCATION:Altes Rathaus, Raum 2.1, Marktplatz 24, 97828 Marktheidenfeld
END:VEVENT
BEGIN:VEVENT
DTSTAMP:20260422T151951
DTSTART;TZID=Europe/Berlin:20260319T100500
DTEND;TZID=Europe/Berlin:20260319T110500
UID:261-3125-20260319T100500@VHSMARKTHEIDENFELD
SUMMARY:Intensives Muskeltraining nach Pilates mit Faszienrolle (261-3125) 
LOCATION:Altes Rathaus, Raum 2.1, Marktplatz 24, 97828 Marktheidenfeld
END:VEVENT
BEGIN:VEVENT
DTSTAMP:20260422T151951
DTSTART;TZID=Europe/Berlin:20260326T100500
DTEND;TZID=Europe/Berlin:20260326T110500
UID:261-3125-20260326T100500@VHSMARKTHEIDENFELD
SUMMARY:Intensives Muskeltraining nach Pilates mit Faszienrolle (261-3125) 
LOCATION:Altes Rathaus, Raum 2.1, Marktplatz 24, 97828 Marktheidenfeld
END:VEVENT
BEGIN:VEVENT
DTSTAMP:20260422T151951
DTSTART;TZID=Europe/Berlin:20260416T100500
DTEND;TZID=Europe/Berlin:20260416T110500
UID:261-3125-20260416T100500@VHSMARKTHEIDENFELD
SUMMARY:Intensives Muskeltraining nach Pilates mit Faszienrolle (261-3125) 
LOCATION:Altes Rathaus, Raum 2.1, Marktplatz 24, 97828 Marktheidenfeld
END:VEVENT
BEGIN:VEVENT
DTSTAMP:20260422T151951
DTSTART;TZID=Europe/Berlin:20260423T100500
DTEND;TZID=Europe/Berlin:20260423T110500
UID:261-3125-20260423T100500@VHSMARKTHEIDENFELD
SUMMARY:Intensives Muskeltraining nach Pilates mit Faszienrolle (261-3125) 
LOCATION:Altes Rathaus, Raum 2.1, Marktplatz 24, 97828 Marktheidenfeld
END:VEVENT
BEGIN:VEVENT
DTSTAMP:20260422T151951
DTSTART;TZID=Europe/Berlin:20260430T100500
DTEND;TZID=Europe/Berlin:20260430T110500
UID:261-3125-20260430T100500@VHSMARKTHEIDENFELD
SUMMARY:Intensives Muskeltraining nach Pilates mit Faszienrolle (261-3125) 
LOCATION:Altes Rathaus, Raum 2.1, Marktplatz 24, 97828 Marktheidenfeld
END:VEVENT
BEGIN:VEVENT
DTSTAMP:20260422T151951
DTSTART;TZID=Europe/Berlin:20260521T100500
DTEND;TZID=Europe/Berlin:20260521T110500
UID:261-3125-20260521T100500@VHSMARKTHEIDENFELD
SUMMARY:Intensives Muskeltraining nach Pilates mit Faszienrolle (261-3125) 
LOCATION:Altes Rathaus, Raum 2.1, Marktplatz 24, 97828 Marktheidenfeld
END:VEVENT
END:VCALENDAR