BEGIN:VCALENDAR
VERSION:2.0
PRODID:https://www.kufer.de/kuferweb / DE
METHOD:PUBLISH
CALSCALE:GREGORIAN
X-WR-TIMEZONE:Europe/Berlin
BEGIN:VTIMEZONE
TZID:Europe/Berlin
X-LIC-LOCATION:Europe/Berlin
BEGIN:DAYLIGHT
TZOFFSETFROM:+0100
TZOFFSETTO:+0200
TZNAME:CEST
DTSTART:19700329T020000
RRULE:FREQ=YEARLY;INTERVAL=1;BYDAY=-1SU;BYMONTH=3
END:DAYLIGHT
BEGIN:STANDARD
TZOFFSETFROM:+0200
TZOFFSETTO:+0100
TZNAME:CET
DTSTART:19701025T030000
RRULE:FREQ=YEARLY;INTERVAL=1;BYDAY=-1SU;BYMONTH=10
END:STANDARD
END:VTIMEZONE
BEGIN:VEVENT
DTSTAMP:20260422T151952
DTSTART;TZID=Europe/Berlin:20260224T183000
DTEND;TZID=Europe/Berlin:20260224T193500
UID:261-3124-20260224T183000@VHSMARKTHEIDENFELD
SUMMARY:Intensives Muskeltraining nach Pilates mit Faszienrolle (261-3124) 
LOCATION:Altes Rathaus, Raum 2.1, Marktplatz 24, 97828 Marktheidenfeld
END:VEVENT
BEGIN:VEVENT
DTSTAMP:20260422T151952
DTSTART;TZID=Europe/Berlin:20260303T183000
DTEND;TZID=Europe/Berlin:20260303T193500
UID:261-3124-20260303T183000@VHSMARKTHEIDENFELD
SUMMARY:Intensives Muskeltraining nach Pilates mit Faszienrolle (261-3124) 
LOCATION:Altes Rathaus, Raum 2.1, Marktplatz 24, 97828 Marktheidenfeld
END:VEVENT
BEGIN:VEVENT
DTSTAMP:20260422T151952
DTSTART;TZID=Europe/Berlin:20260310T183000
DTEND;TZID=Europe/Berlin:20260310T193500
UID:261-3124-20260310T183000@VHSMARKTHEIDENFELD
SUMMARY:Intensives Muskeltraining nach Pilates mit Faszienrolle (261-3124) 
LOCATION:Altes Rathaus, Raum 2.1, Marktplatz 24, 97828 Marktheidenfeld
END:VEVENT
BEGIN:VEVENT
DTSTAMP:20260422T151952
DTSTART;TZID=Europe/Berlin:20260317T183000
DTEND;TZID=Europe/Berlin:20260317T193500
UID:261-3124-20260317T183000@VHSMARKTHEIDENFELD
SUMMARY:Intensives Muskeltraining nach Pilates mit Faszienrolle (261-3124) 
LOCATION:Altes Rathaus, Raum 2.1, Marktplatz 24, 97828 Marktheidenfeld
END:VEVENT
BEGIN:VEVENT
DTSTAMP:20260422T151952
DTSTART;TZID=Europe/Berlin:20260324T183000
DTEND;TZID=Europe/Berlin:20260324T193500
UID:261-3124-20260324T183000@VHSMARKTHEIDENFELD
SUMMARY:Intensives Muskeltraining nach Pilates mit Faszienrolle (261-3124) 
LOCATION:Altes Rathaus, Raum 2.1, Marktplatz 24, 97828 Marktheidenfeld
END:VEVENT
BEGIN:VEVENT
DTSTAMP:20260422T151952
DTSTART;TZID=Europe/Berlin:20260414T183000
DTEND;TZID=Europe/Berlin:20260414T193500
UID:261-3124-20260414T183000@VHSMARKTHEIDENFELD
SUMMARY:Intensives Muskeltraining nach Pilates mit Faszienrolle (261-3124) 
LOCATION:Altes Rathaus, Raum 2.1, Marktplatz 24, 97828 Marktheidenfeld
END:VEVENT
BEGIN:VEVENT
DTSTAMP:20260422T151952
DTSTART;TZID=Europe/Berlin:20260421T183000
DTEND;TZID=Europe/Berlin:20260421T193500
UID:261-3124-20260421T183000@VHSMARKTHEIDENFELD
SUMMARY:Intensives Muskeltraining nach Pilates mit Faszienrolle (261-3124) 
LOCATION:Altes Rathaus, Raum 2.1, Marktplatz 24, 97828 Marktheidenfeld
END:VEVENT
BEGIN:VEVENT
DTSTAMP:20260422T151952
DTSTART;TZID=Europe/Berlin:20260428T183000
DTEND;TZID=Europe/Berlin:20260428T193500
UID:261-3124-20260428T183000@VHSMARKTHEIDENFELD
SUMMARY:Intensives Muskeltraining nach Pilates mit Faszienrolle (261-3124) 
LOCATION:Altes Rathaus, Raum 2.1, Marktplatz 24, 97828 Marktheidenfeld
END:VEVENT
BEGIN:VEVENT
DTSTAMP:20260422T151952
DTSTART;TZID=Europe/Berlin:20260512T183000
DTEND;TZID=Europe/Berlin:20260512T193500
UID:261-3124-20260512T183000@VHSMARKTHEIDENFELD
SUMMARY:Intensives Muskeltraining nach Pilates mit Faszienrolle (261-3124) 
LOCATION:Altes Rathaus, Raum 2.1, Marktplatz 24, 97828 Marktheidenfeld
END:VEVENT
BEGIN:VEVENT
DTSTAMP:20260422T151952
DTSTART;TZID=Europe/Berlin:20260519T183000
DTEND;TZID=Europe/Berlin:20260519T193500
UID:261-3124-20260519T183000@VHSMARKTHEIDENFELD
SUMMARY:Intensives Muskeltraining nach Pilates mit Faszienrolle (261-3124) 
LOCATION:Altes Rathaus, Raum 2.1, Marktplatz 24, 97828 Marktheidenfeld
END:VEVENT
END:VCALENDAR