BEGIN:VCALENDAR
VERSION:2.0
PRODID:https://www.kufer.de/kuferweb / DE
METHOD:PUBLISH
CALSCALE:GREGORIAN
X-WR-TIMEZONE:Europe/Berlin
BEGIN:VTIMEZONE
TZID:Europe/Berlin
X-LIC-LOCATION:Europe/Berlin
BEGIN:DAYLIGHT
TZOFFSETFROM:+0100
TZOFFSETTO:+0200
TZNAME:CEST
DTSTART:19700329T020000
RRULE:FREQ=YEARLY;INTERVAL=1;BYDAY=-1SU;BYMONTH=3
END:DAYLIGHT
BEGIN:STANDARD
TZOFFSETFROM:+0200
TZOFFSETTO:+0100
TZNAME:CET
DTSTART:19701025T030000
RRULE:FREQ=YEARLY;INTERVAL=1;BYDAY=-1SU;BYMONTH=10
END:STANDARD
END:VTIMEZONE
BEGIN:VEVENT
DTSTAMP:20260422T151828
DTSTART;TZID=Europe/Berlin:20260226T151500
DTEND;TZID=Europe/Berlin:20260226T161500
UID:261-3116-20260226T151500@VHSMARKTHEIDENFELD
SUMMARY:Aktiv und gesund durch Bewegungstraining (261-3116) 
LOCATION:Altes Rathaus, Raum 2.1, Marktplatz 24, 97828 Marktheidenfeld
END:VEVENT
BEGIN:VEVENT
DTSTAMP:20260422T151828
DTSTART;TZID=Europe/Berlin:20260305T151500
DTEND;TZID=Europe/Berlin:20260305T161500
UID:261-3116-20260305T151500@VHSMARKTHEIDENFELD
SUMMARY:Aktiv und gesund durch Bewegungstraining (261-3116) 
LOCATION:Altes Rathaus, Raum 2.1, Marktplatz 24, 97828 Marktheidenfeld
END:VEVENT
BEGIN:VEVENT
DTSTAMP:20260422T151828
DTSTART;TZID=Europe/Berlin:20260312T151500
DTEND;TZID=Europe/Berlin:20260312T161500
UID:261-3116-20260312T151500@VHSMARKTHEIDENFELD
SUMMARY:Aktiv und gesund durch Bewegungstraining (261-3116) 
LOCATION:Altes Rathaus, Raum 2.1, Marktplatz 24, 97828 Marktheidenfeld
END:VEVENT
BEGIN:VEVENT
DTSTAMP:20260422T151828
DTSTART;TZID=Europe/Berlin:20260319T151500
DTEND;TZID=Europe/Berlin:20260319T161500
UID:261-3116-20260319T151500@VHSMARKTHEIDENFELD
SUMMARY:Aktiv und gesund durch Bewegungstraining (261-3116) 
LOCATION:Altes Rathaus, Raum 2.1, Marktplatz 24, 97828 Marktheidenfeld
END:VEVENT
BEGIN:VEVENT
DTSTAMP:20260422T151828
DTSTART;TZID=Europe/Berlin:20260326T151500
DTEND;TZID=Europe/Berlin:20260326T161500
UID:261-3116-20260326T151500@VHSMARKTHEIDENFELD
SUMMARY:Aktiv und gesund durch Bewegungstraining (261-3116) 
LOCATION:Altes Rathaus, Raum 2.1, Marktplatz 24, 97828 Marktheidenfeld
END:VEVENT
BEGIN:VEVENT
DTSTAMP:20260422T151828
DTSTART;TZID=Europe/Berlin:20260416T151500
DTEND;TZID=Europe/Berlin:20260416T161500
UID:261-3116-20260416T151500@VHSMARKTHEIDENFELD
SUMMARY:Aktiv und gesund durch Bewegungstraining (261-3116) 
LOCATION:Altes Rathaus, Raum 2.1, Marktplatz 24, 97828 Marktheidenfeld
END:VEVENT
BEGIN:VEVENT
DTSTAMP:20260422T151828
DTSTART;TZID=Europe/Berlin:20260423T151500
DTEND;TZID=Europe/Berlin:20260423T161500
UID:261-3116-20260423T151500@VHSMARKTHEIDENFELD
SUMMARY:Aktiv und gesund durch Bewegungstraining (261-3116) 
LOCATION:Altes Rathaus, Raum 2.1, Marktplatz 24, 97828 Marktheidenfeld
END:VEVENT
BEGIN:VEVENT
DTSTAMP:20260422T151828
DTSTART;TZID=Europe/Berlin:20260430T151500
DTEND;TZID=Europe/Berlin:20260430T161500
UID:261-3116-20260430T151500@VHSMARKTHEIDENFELD
SUMMARY:Aktiv und gesund durch Bewegungstraining (261-3116) 
LOCATION:Altes Rathaus, Raum 2.1, Marktplatz 24, 97828 Marktheidenfeld
END:VEVENT
BEGIN:VEVENT
DTSTAMP:20260422T151828
DTSTART;TZID=Europe/Berlin:20260507T151500
DTEND;TZID=Europe/Berlin:20260507T161500
UID:261-3116-20260507T151500@VHSMARKTHEIDENFELD
SUMMARY:Aktiv und gesund durch Bewegungstraining (261-3116) 
LOCATION:Altes Rathaus, Raum 2.1, Marktplatz 24, 97828 Marktheidenfeld
END:VEVENT
BEGIN:VEVENT
DTSTAMP:20260422T151828
DTSTART;TZID=Europe/Berlin:20260521T151500
DTEND;TZID=Europe/Berlin:20260521T161500
UID:261-3116-20260521T151500@VHSMARKTHEIDENFELD
SUMMARY:Aktiv und gesund durch Bewegungstraining (261-3116) 
LOCATION:Altes Rathaus, Raum 2.1, Marktplatz 24, 97828 Marktheidenfeld
END:VEVENT
END:VCALENDAR