BEGIN:VCALENDAR
VERSION:2.0
PRODID:https://www.kufer.de/kuferweb / DE
METHOD:PUBLISH
CALSCALE:GREGORIAN
X-WR-TIMEZONE:Europe/Berlin
BEGIN:VTIMEZONE
TZID:Europe/Berlin
X-LIC-LOCATION:Europe/Berlin
BEGIN:DAYLIGHT
TZOFFSETFROM:+0100
TZOFFSETTO:+0200
TZNAME:CEST
DTSTART:19700329T020000
RRULE:FREQ=YEARLY;INTERVAL=1;BYDAY=-1SU;BYMONTH=3
END:DAYLIGHT
BEGIN:STANDARD
TZOFFSETFROM:+0200
TZOFFSETTO:+0100
TZNAME:CET
DTSTART:19701025T030000
RRULE:FREQ=YEARLY;INTERVAL=1;BYDAY=-1SU;BYMONTH=10
END:STANDARD
END:VTIMEZONE
BEGIN:VEVENT
DTSTAMP:20260424T122015
DTSTART;TZID=Europe/Berlin:20260223T140000
DTEND;TZID=Europe/Berlin:20260223T150000
UID:261-3110-20260223T140000@VHSMARKTHEIDENFELD
SUMMARY:Fit & aktiv im Sitzen und Stehen 60+ Gerätetraining für Junggebliebene (261-3110) 
LOCATION:Altes Rathaus, Raum 3.1, Marktplatz 24, 97828 Marktheidenfeld
END:VEVENT
BEGIN:VEVENT
DTSTAMP:20260424T122015
DTSTART;TZID=Europe/Berlin:20260302T140000
DTEND;TZID=Europe/Berlin:20260302T150000
UID:261-3110-20260302T140000@VHSMARKTHEIDENFELD
SUMMARY:Fit & aktiv im Sitzen und Stehen 60+ Gerätetraining für Junggebliebene (261-3110) 
LOCATION:Altes Rathaus, Raum 3.1, Marktplatz 24, 97828 Marktheidenfeld
END:VEVENT
BEGIN:VEVENT
DTSTAMP:20260424T122015
DTSTART;TZID=Europe/Berlin:20260309T140000
DTEND;TZID=Europe/Berlin:20260309T150000
UID:261-3110-20260309T140000@VHSMARKTHEIDENFELD
SUMMARY:Fit & aktiv im Sitzen und Stehen 60+ Gerätetraining für Junggebliebene (261-3110) 
LOCATION:Altes Rathaus, Raum 3.1, Marktplatz 24, 97828 Marktheidenfeld
END:VEVENT
BEGIN:VEVENT
DTSTAMP:20260424T122015
DTSTART;TZID=Europe/Berlin:20260316T140000
DTEND;TZID=Europe/Berlin:20260316T150000
UID:261-3110-20260316T140000@VHSMARKTHEIDENFELD
SUMMARY:Fit & aktiv im Sitzen und Stehen 60+ Gerätetraining für Junggebliebene (261-3110) 
LOCATION:Altes Rathaus, Raum 3.1, Marktplatz 24, 97828 Marktheidenfeld
END:VEVENT
BEGIN:VEVENT
DTSTAMP:20260424T122015
DTSTART;TZID=Europe/Berlin:20260413T140000
DTEND;TZID=Europe/Berlin:20260413T150000
UID:261-3110-20260413T140000@VHSMARKTHEIDENFELD
SUMMARY:Fit & aktiv im Sitzen und Stehen 60+ Gerätetraining für Junggebliebene (261-3110) 
LOCATION:Altes Rathaus, Raum 3.1, Marktplatz 24, 97828 Marktheidenfeld
END:VEVENT
BEGIN:VEVENT
DTSTAMP:20260424T122015
DTSTART;TZID=Europe/Berlin:20260420T140000
DTEND;TZID=Europe/Berlin:20260420T150000
UID:261-3110-20260420T140000@VHSMARKTHEIDENFELD
SUMMARY:Fit & aktiv im Sitzen und Stehen 60+ Gerätetraining für Junggebliebene (261-3110) 
LOCATION:Altes Rathaus, Raum 3.1, Marktplatz 24, 97828 Marktheidenfeld
END:VEVENT
BEGIN:VEVENT
DTSTAMP:20260424T122015
DTSTART;TZID=Europe/Berlin:20260504T140000
DTEND;TZID=Europe/Berlin:20260504T150000
UID:261-3110-20260504T140000@VHSMARKTHEIDENFELD
SUMMARY:Fit & aktiv im Sitzen und Stehen 60+ Gerätetraining für Junggebliebene (261-3110) 
LOCATION:Altes Rathaus, Raum 3.1, Marktplatz 24, 97828 Marktheidenfeld
END:VEVENT
END:VCALENDAR