BEGIN:VCALENDAR
VERSION:2.0
PRODID:https://www.kufer.de/kuferweb / DE
METHOD:PUBLISH
CALSCALE:GREGORIAN
X-WR-TIMEZONE:Europe/Berlin
BEGIN:VTIMEZONE
TZID:Europe/Berlin
X-LIC-LOCATION:Europe/Berlin
BEGIN:DAYLIGHT
TZOFFSETFROM:+0100
TZOFFSETTO:+0200
TZNAME:CEST
DTSTART:19700329T020000
RRULE:FREQ=YEARLY;INTERVAL=1;BYDAY=-1SU;BYMONTH=3
END:DAYLIGHT
BEGIN:STANDARD
TZOFFSETFROM:+0200
TZOFFSETTO:+0100
TZNAME:CET
DTSTART:19701025T030000
RRULE:FREQ=YEARLY;INTERVAL=1;BYDAY=-1SU;BYMONTH=10
END:STANDARD
END:VTIMEZONE
BEGIN:VEVENT
DTSTAMP:20260422T082949
DTSTART;TZID=Europe/Berlin:20260223T083000
DTEND;TZID=Europe/Berlin:20260223T093000
UID:261-3104-20260223T083000@VHSMARKTHEIDENFELD
SUMMARY:Ganzkörperworkout/-gymnastik: Für Sie und Ihn (261-3104) 
LOCATION:Altes Rathaus, Raum 3.1, Marktplatz 24, 97828 Marktheidenfeld
END:VEVENT
BEGIN:VEVENT
DTSTAMP:20260422T082949
DTSTART;TZID=Europe/Berlin:20260302T083000
DTEND;TZID=Europe/Berlin:20260302T093000
UID:261-3104-20260302T083000@VHSMARKTHEIDENFELD
SUMMARY:Ganzkörperworkout/-gymnastik: Für Sie und Ihn (261-3104) 
LOCATION:Altes Rathaus, Raum 3.1, Marktplatz 24, 97828 Marktheidenfeld
END:VEVENT
BEGIN:VEVENT
DTSTAMP:20260422T082949
DTSTART;TZID=Europe/Berlin:20260309T083000
DTEND;TZID=Europe/Berlin:20260309T093000
UID:261-3104-20260309T083000@VHSMARKTHEIDENFELD
SUMMARY:Ganzkörperworkout/-gymnastik: Für Sie und Ihn (261-3104) 
LOCATION:Altes Rathaus, Raum 3.1, Marktplatz 24, 97828 Marktheidenfeld
END:VEVENT
BEGIN:VEVENT
DTSTAMP:20260422T082949
DTSTART;TZID=Europe/Berlin:20260316T083000
DTEND;TZID=Europe/Berlin:20260316T093000
UID:261-3104-20260316T083000@VHSMARKTHEIDENFELD
SUMMARY:Ganzkörperworkout/-gymnastik: Für Sie und Ihn (261-3104) 
LOCATION:Altes Rathaus, Raum 3.1, Marktplatz 24, 97828 Marktheidenfeld
END:VEVENT
BEGIN:VEVENT
DTSTAMP:20260422T082949
DTSTART;TZID=Europe/Berlin:20260323T083000
DTEND;TZID=Europe/Berlin:20260323T093000
UID:261-3104-20260323T083000@VHSMARKTHEIDENFELD
SUMMARY:Ganzkörperworkout/-gymnastik: Für Sie und Ihn (261-3104) 
LOCATION:Altes Rathaus, Raum 3.1, Marktplatz 24, 97828 Marktheidenfeld
END:VEVENT
BEGIN:VEVENT
DTSTAMP:20260422T082949
DTSTART;TZID=Europe/Berlin:20260413T083000
DTEND;TZID=Europe/Berlin:20260413T093000
UID:261-3104-20260413T083000@VHSMARKTHEIDENFELD
SUMMARY:Ganzkörperworkout/-gymnastik: Für Sie und Ihn (261-3104) 
LOCATION:Altes Rathaus, Raum 3.1, Marktplatz 24, 97828 Marktheidenfeld
END:VEVENT
BEGIN:VEVENT
DTSTAMP:20260422T082949
DTSTART;TZID=Europe/Berlin:20260420T083000
DTEND;TZID=Europe/Berlin:20260420T093000
UID:261-3104-20260420T083000@VHSMARKTHEIDENFELD
SUMMARY:Ganzkörperworkout/-gymnastik: Für Sie und Ihn (261-3104) 
LOCATION:Altes Rathaus, Raum 3.1, Marktplatz 24, 97828 Marktheidenfeld
END:VEVENT
BEGIN:VEVENT
DTSTAMP:20260422T082949
DTSTART;TZID=Europe/Berlin:20260427T083000
DTEND;TZID=Europe/Berlin:20260427T093000
UID:261-3104-20260427T083000@VHSMARKTHEIDENFELD
SUMMARY:Ganzkörperworkout/-gymnastik: Für Sie und Ihn (261-3104) 
LOCATION:Altes Rathaus, Raum 3.1, Marktplatz 24, 97828 Marktheidenfeld
END:VEVENT
BEGIN:VEVENT
DTSTAMP:20260422T082949
DTSTART;TZID=Europe/Berlin:20260504T083000
DTEND;TZID=Europe/Berlin:20260504T093000
UID:261-3104-20260504T083000@VHSMARKTHEIDENFELD
SUMMARY:Ganzkörperworkout/-gymnastik: Für Sie und Ihn (261-3104) 
LOCATION:Altes Rathaus, Raum 3.1, Marktplatz 24, 97828 Marktheidenfeld
END:VEVENT
END:VCALENDAR