BEGIN:VCALENDAR
VERSION:2.0
PRODID:https://www.kufer.de/kuferweb / DE
METHOD:PUBLISH
CALSCALE:GREGORIAN
X-WR-TIMEZONE:Europe/Berlin
BEGIN:VTIMEZONE
TZID:Europe/Berlin
X-LIC-LOCATION:Europe/Berlin
BEGIN:DAYLIGHT
TZOFFSETFROM:+0100
TZOFFSETTO:+0200
TZNAME:CEST
DTSTART:19700329T020000
RRULE:FREQ=YEARLY;INTERVAL=1;BYDAY=-1SU;BYMONTH=3
END:DAYLIGHT
BEGIN:STANDARD
TZOFFSETFROM:+0200
TZOFFSETTO:+0100
TZNAME:CET
DTSTART:19701025T030000
RRULE:FREQ=YEARLY;INTERVAL=1;BYDAY=-1SU;BYMONTH=10
END:STANDARD
END:VTIMEZONE
BEGIN:VEVENT
DTSTAMP:20260422T151822
DTSTART;TZID=Europe/Berlin:20260226T103000
DTEND;TZID=Europe/Berlin:20260226T113000
UID:261-3103-20260226T103000@VHSMARKTHEIDENFELD
SUMMARY:Ganzheitliche Fitnessgymnastik (261-3103) 
LOCATION:Altes Rathaus, Raum 3.1, Marktplatz 24, 97828 Marktheidenfeld
END:VEVENT
BEGIN:VEVENT
DTSTAMP:20260422T151822
DTSTART;TZID=Europe/Berlin:20260305T103000
DTEND;TZID=Europe/Berlin:20260305T113000
UID:261-3103-20260305T103000@VHSMARKTHEIDENFELD
SUMMARY:Ganzheitliche Fitnessgymnastik (261-3103) 
LOCATION:Altes Rathaus, Raum 3.1, Marktplatz 24, 97828 Marktheidenfeld
END:VEVENT
BEGIN:VEVENT
DTSTAMP:20260422T151822
DTSTART;TZID=Europe/Berlin:20260312T103000
DTEND;TZID=Europe/Berlin:20260312T113000
UID:261-3103-20260312T103000@VHSMARKTHEIDENFELD
SUMMARY:Ganzheitliche Fitnessgymnastik (261-3103) 
LOCATION:Altes Rathaus, Raum 3.1, Marktplatz 24, 97828 Marktheidenfeld
END:VEVENT
BEGIN:VEVENT
DTSTAMP:20260422T151822
DTSTART;TZID=Europe/Berlin:20260319T103000
DTEND;TZID=Europe/Berlin:20260319T113000
UID:261-3103-20260319T103000@VHSMARKTHEIDENFELD
SUMMARY:Ganzheitliche Fitnessgymnastik (261-3103) 
LOCATION:Altes Rathaus, Raum 3.1, Marktplatz 24, 97828 Marktheidenfeld
END:VEVENT
BEGIN:VEVENT
DTSTAMP:20260422T151822
DTSTART;TZID=Europe/Berlin:20260326T103000
DTEND;TZID=Europe/Berlin:20260326T113000
UID:261-3103-20260326T103000@VHSMARKTHEIDENFELD
SUMMARY:Ganzheitliche Fitnessgymnastik (261-3103) 
LOCATION:Altes Rathaus, Raum 3.1, Marktplatz 24, 97828 Marktheidenfeld
END:VEVENT
BEGIN:VEVENT
DTSTAMP:20260422T151822
DTSTART;TZID=Europe/Berlin:20260416T103000
DTEND;TZID=Europe/Berlin:20260416T113000
UID:261-3103-20260416T103000@VHSMARKTHEIDENFELD
SUMMARY:Ganzheitliche Fitnessgymnastik (261-3103) 
LOCATION:Altes Rathaus, Raum 3.1, Marktplatz 24, 97828 Marktheidenfeld
END:VEVENT
BEGIN:VEVENT
DTSTAMP:20260422T151822
DTSTART;TZID=Europe/Berlin:20260423T103000
DTEND;TZID=Europe/Berlin:20260423T113000
UID:261-3103-20260423T103000@VHSMARKTHEIDENFELD
SUMMARY:Ganzheitliche Fitnessgymnastik (261-3103) 
LOCATION:Altes Rathaus, Raum 3.1, Marktplatz 24, 97828 Marktheidenfeld
END:VEVENT
BEGIN:VEVENT
DTSTAMP:20260422T151822
DTSTART;TZID=Europe/Berlin:20260430T103000
DTEND;TZID=Europe/Berlin:20260430T113000
UID:261-3103-20260430T103000@VHSMARKTHEIDENFELD
SUMMARY:Ganzheitliche Fitnessgymnastik (261-3103) 
LOCATION:Altes Rathaus, Raum 3.1, Marktplatz 24, 97828 Marktheidenfeld
END:VEVENT
BEGIN:VEVENT
DTSTAMP:20260422T151822
DTSTART;TZID=Europe/Berlin:20260507T103000
DTEND;TZID=Europe/Berlin:20260507T113000
UID:261-3103-20260507T103000@VHSMARKTHEIDENFELD
SUMMARY:Ganzheitliche Fitnessgymnastik (261-3103) 
LOCATION:Altes Rathaus, Raum 3.1, Marktplatz 24, 97828 Marktheidenfeld
END:VEVENT
BEGIN:VEVENT
DTSTAMP:20260422T151822
DTSTART;TZID=Europe/Berlin:20260521T103000
DTEND;TZID=Europe/Berlin:20260521T113000
UID:261-3103-20260521T103000@VHSMARKTHEIDENFELD
SUMMARY:Ganzheitliche Fitnessgymnastik (261-3103) 
LOCATION:Altes Rathaus, Raum 3.1, Marktplatz 24, 97828 Marktheidenfeld
END:VEVENT
END:VCALENDAR