BEGIN:VCALENDAR
VERSION:2.0
PRODID:https://www.kufer.de/kuferweb / DE
METHOD:PUBLISH
CALSCALE:GREGORIAN
X-WR-TIMEZONE:Europe/Berlin
BEGIN:VTIMEZONE
TZID:Europe/Berlin
X-LIC-LOCATION:Europe/Berlin
BEGIN:DAYLIGHT
TZOFFSETFROM:+0100
TZOFFSETTO:+0200
TZNAME:CEST
DTSTART:19700329T020000
RRULE:FREQ=YEARLY;INTERVAL=1;BYDAY=-1SU;BYMONTH=3
END:DAYLIGHT
BEGIN:STANDARD
TZOFFSETFROM:+0200
TZOFFSETTO:+0100
TZNAME:CET
DTSTART:19701025T030000
RRULE:FREQ=YEARLY;INTERVAL=1;BYDAY=-1SU;BYMONTH=10
END:STANDARD
END:VTIMEZONE
BEGIN:VEVENT
DTSTAMP:20260422T082950
DTSTART;TZID=Europe/Berlin:20260223T171500
DTEND;TZID=Europe/Berlin:20260223T183000
UID:261-3088-20260223T171500@VHSMARKTHEIDENFELD
SUMMARY:Gymnastik in der Brustkrebsnachsorge (261-3088) 
LOCATION:Altes Rathaus, Raum 2.1, Marktplatz 24, 97828 Marktheidenfeld
END:VEVENT
BEGIN:VEVENT
DTSTAMP:20260422T082950
DTSTART;TZID=Europe/Berlin:20260309T171500
DTEND;TZID=Europe/Berlin:20260309T183000
UID:261-3088-20260309T171500@VHSMARKTHEIDENFELD
SUMMARY:Gymnastik in der Brustkrebsnachsorge (261-3088) 
LOCATION:Altes Rathaus, Raum 2.1, Marktplatz 24, 97828 Marktheidenfeld
END:VEVENT
BEGIN:VEVENT
DTSTAMP:20260422T082950
DTSTART;TZID=Europe/Berlin:20260323T171500
DTEND;TZID=Europe/Berlin:20260323T183000
UID:261-3088-20260323T171500@VHSMARKTHEIDENFELD
SUMMARY:Gymnastik in der Brustkrebsnachsorge (261-3088) 
LOCATION:Altes Rathaus, Raum 2.1, Marktplatz 24, 97828 Marktheidenfeld
END:VEVENT
BEGIN:VEVENT
DTSTAMP:20260422T082950
DTSTART;TZID=Europe/Berlin:20260420T171500
DTEND;TZID=Europe/Berlin:20260420T183000
UID:261-3088-20260420T171500@VHSMARKTHEIDENFELD
SUMMARY:Gymnastik in der Brustkrebsnachsorge (261-3088) 
LOCATION:Altes Rathaus, Raum 2.1, Marktplatz 24, 97828 Marktheidenfeld
END:VEVENT
BEGIN:VEVENT
DTSTAMP:20260422T082950
DTSTART;TZID=Europe/Berlin:20260504T171500
DTEND;TZID=Europe/Berlin:20260504T183000
UID:261-3088-20260504T171500@VHSMARKTHEIDENFELD
SUMMARY:Gymnastik in der Brustkrebsnachsorge (261-3088) 
LOCATION:Altes Rathaus, Raum 2.1, Marktplatz 24, 97828 Marktheidenfeld
END:VEVENT
BEGIN:VEVENT
DTSTAMP:20260422T082950
DTSTART;TZID=Europe/Berlin:20260518T171500
DTEND;TZID=Europe/Berlin:20260518T183000
UID:261-3088-20260518T171500@VHSMARKTHEIDENFELD
SUMMARY:Gymnastik in der Brustkrebsnachsorge (261-3088) 
LOCATION:Altes Rathaus, Raum 2.1, Marktplatz 24, 97828 Marktheidenfeld
END:VEVENT
BEGIN:VEVENT
DTSTAMP:20260422T082950
DTSTART;TZID=Europe/Berlin:20260615T171500
DTEND;TZID=Europe/Berlin:20260615T183000
UID:261-3088-20260615T171500@VHSMARKTHEIDENFELD
SUMMARY:Gymnastik in der Brustkrebsnachsorge (261-3088) 
LOCATION:Altes Rathaus, Raum 2.1, Marktplatz 24, 97828 Marktheidenfeld
END:VEVENT
BEGIN:VEVENT
DTSTAMP:20260422T082950
DTSTART;TZID=Europe/Berlin:20260629T171500
DTEND;TZID=Europe/Berlin:20260629T183000
UID:261-3088-20260629T171500@VHSMARKTHEIDENFELD
SUMMARY:Gymnastik in der Brustkrebsnachsorge (261-3088) 
LOCATION:Altes Rathaus, Raum 2.1, Marktplatz 24, 97828 Marktheidenfeld
END:VEVENT
BEGIN:VEVENT
DTSTAMP:20260422T082950
DTSTART;TZID=Europe/Berlin:20260713T171500
DTEND;TZID=Europe/Berlin:20260713T183000
UID:261-3088-20260713T171500@VHSMARKTHEIDENFELD
SUMMARY:Gymnastik in der Brustkrebsnachsorge (261-3088) 
LOCATION:Altes Rathaus, Raum 2.1, Marktplatz 24, 97828 Marktheidenfeld
END:VEVENT
BEGIN:VEVENT
DTSTAMP:20260422T082950
DTSTART;TZID=Europe/Berlin:20260727T171500
DTEND;TZID=Europe/Berlin:20260727T183000
UID:261-3088-20260727T171500@VHSMARKTHEIDENFELD
SUMMARY:Gymnastik in der Brustkrebsnachsorge (261-3088) 
LOCATION:Altes Rathaus, Raum 2.1, Marktplatz 24, 97828 Marktheidenfeld
END:VEVENT
END:VCALENDAR