BEGIN:VCALENDAR
VERSION:2.0
PRODID:https://www.kufer.de/kuferweb / DE
METHOD:PUBLISH
CALSCALE:GREGORIAN
X-WR-TIMEZONE:Europe/Berlin
BEGIN:VTIMEZONE
TZID:Europe/Berlin
X-LIC-LOCATION:Europe/Berlin
BEGIN:DAYLIGHT
TZOFFSETFROM:+0100
TZOFFSETTO:+0200
TZNAME:CEST
DTSTART:19700329T020000
RRULE:FREQ=YEARLY;INTERVAL=1;BYDAY=-1SU;BYMONTH=3
END:DAYLIGHT
BEGIN:STANDARD
TZOFFSETFROM:+0200
TZOFFSETTO:+0100
TZNAME:CET
DTSTART:19701025T030000
RRULE:FREQ=YEARLY;INTERVAL=1;BYDAY=-1SU;BYMONTH=10
END:STANDARD
END:VTIMEZONE
BEGIN:VEVENT
DTSTAMP:20260422T101804
DTSTART;TZID=Europe/Berlin:20260227T080000
DTEND;TZID=Europe/Berlin:20260227T090000
UID:261-3081-20260227T080000@VHSMARKTHEIDENFELD
SUMMARY:Rückhalt für Jung und Alt: Mehr Kraft und Beweglichkeit für den Rücken (261-3081) 
LOCATION:Altes Rathaus, Raum 2.1, Marktplatz 24, 97828 Marktheidenfeld
END:VEVENT
BEGIN:VEVENT
DTSTAMP:20260422T101804
DTSTART;TZID=Europe/Berlin:20260306T080000
DTEND;TZID=Europe/Berlin:20260306T090000
UID:261-3081-20260306T080000@VHSMARKTHEIDENFELD
SUMMARY:Rückhalt für Jung und Alt: Mehr Kraft und Beweglichkeit für den Rücken (261-3081) 
LOCATION:Altes Rathaus, Raum 2.1, Marktplatz 24, 97828 Marktheidenfeld
END:VEVENT
BEGIN:VEVENT
DTSTAMP:20260422T101804
DTSTART;TZID=Europe/Berlin:20260313T080000
DTEND;TZID=Europe/Berlin:20260313T090000
UID:261-3081-20260313T080000@VHSMARKTHEIDENFELD
SUMMARY:Rückhalt für Jung und Alt: Mehr Kraft und Beweglichkeit für den Rücken (261-3081) 
LOCATION:Altes Rathaus, Raum 2.1, Marktplatz 24, 97828 Marktheidenfeld
END:VEVENT
BEGIN:VEVENT
DTSTAMP:20260422T101804
DTSTART;TZID=Europe/Berlin:20260320T080000
DTEND;TZID=Europe/Berlin:20260320T090000
UID:261-3081-20260320T080000@VHSMARKTHEIDENFELD
SUMMARY:Rückhalt für Jung und Alt: Mehr Kraft und Beweglichkeit für den Rücken (261-3081) 
LOCATION:Altes Rathaus, Raum 2.1, Marktplatz 24, 97828 Marktheidenfeld
END:VEVENT
BEGIN:VEVENT
DTSTAMP:20260422T101804
DTSTART;TZID=Europe/Berlin:20260327T080000
DTEND;TZID=Europe/Berlin:20260327T090000
UID:261-3081-20260327T080000@VHSMARKTHEIDENFELD
SUMMARY:Rückhalt für Jung und Alt: Mehr Kraft und Beweglichkeit für den Rücken (261-3081) 
LOCATION:Altes Rathaus, Raum 2.1, Marktplatz 24, 97828 Marktheidenfeld
END:VEVENT
BEGIN:VEVENT
DTSTAMP:20260422T101804
DTSTART;TZID=Europe/Berlin:20260417T080000
DTEND;TZID=Europe/Berlin:20260417T090000
UID:261-3081-20260417T080000@VHSMARKTHEIDENFELD
SUMMARY:Rückhalt für Jung und Alt: Mehr Kraft und Beweglichkeit für den Rücken (261-3081) 
LOCATION:Altes Rathaus, Raum 2.1, Marktplatz 24, 97828 Marktheidenfeld
END:VEVENT
BEGIN:VEVENT
DTSTAMP:20260422T101804
DTSTART;TZID=Europe/Berlin:20260424T080000
DTEND;TZID=Europe/Berlin:20260424T090000
UID:261-3081-20260424T080000@VHSMARKTHEIDENFELD
SUMMARY:Rückhalt für Jung und Alt: Mehr Kraft und Beweglichkeit für den Rücken (261-3081) 
LOCATION:Altes Rathaus, Raum 2.1, Marktplatz 24, 97828 Marktheidenfeld
END:VEVENT
BEGIN:VEVENT
DTSTAMP:20260422T101804
DTSTART;TZID=Europe/Berlin:20260508T080000
DTEND;TZID=Europe/Berlin:20260508T090000
UID:261-3081-20260508T080000@VHSMARKTHEIDENFELD
SUMMARY:Rückhalt für Jung und Alt: Mehr Kraft und Beweglichkeit für den Rücken (261-3081) 
LOCATION:Altes Rathaus, Raum 2.1, Marktplatz 24, 97828 Marktheidenfeld
END:VEVENT
BEGIN:VEVENT
DTSTAMP:20260422T101804
DTSTART;TZID=Europe/Berlin:20260515T080000
DTEND;TZID=Europe/Berlin:20260515T090000
UID:261-3081-20260515T080000@VHSMARKTHEIDENFELD
SUMMARY:Rückhalt für Jung und Alt: Mehr Kraft und Beweglichkeit für den Rücken (261-3081) 
LOCATION:Altes Rathaus, Raum 2.1, Marktplatz 24, 97828 Marktheidenfeld
END:VEVENT
BEGIN:VEVENT
DTSTAMP:20260422T101804
DTSTART;TZID=Europe/Berlin:20260522T080000
DTEND;TZID=Europe/Berlin:20260522T090000
UID:261-3081-20260522T080000@VHSMARKTHEIDENFELD
SUMMARY:Rückhalt für Jung und Alt: Mehr Kraft und Beweglichkeit für den Rücken (261-3081) 
LOCATION:Altes Rathaus, Raum 2.1, Marktplatz 24, 97828 Marktheidenfeld
END:VEVENT
END:VCALENDAR