BEGIN:VCALENDAR
VERSION:2.0
PRODID:https://www.kufer.de/kuferweb / DE
METHOD:PUBLISH
CALSCALE:GREGORIAN
X-WR-TIMEZONE:Europe/Berlin
BEGIN:VTIMEZONE
TZID:Europe/Berlin
X-LIC-LOCATION:Europe/Berlin
BEGIN:DAYLIGHT
TZOFFSETFROM:+0100
TZOFFSETTO:+0200
TZNAME:CEST
DTSTART:19700329T020000
RRULE:FREQ=YEARLY;INTERVAL=1;BYDAY=-1SU;BYMONTH=3
END:DAYLIGHT
BEGIN:STANDARD
TZOFFSETFROM:+0200
TZOFFSETTO:+0100
TZNAME:CET
DTSTART:19701025T030000
RRULE:FREQ=YEARLY;INTERVAL=1;BYDAY=-1SU;BYMONTH=10
END:STANDARD
END:VTIMEZONE
BEGIN:VEVENT
DTSTAMP:20260422T083036
DTSTART;TZID=Europe/Berlin:20260614T090000
DTEND;TZID=Europe/Berlin:20260614T100000
UID:261-3067S-20260614T090000@VHSMARKTHEIDENFELD
SUMMARY:BodyStyling Kraft und Ausdauer für die Körpermitte (261-3067S) 
LOCATION:Mehrzweckhalle Röttbach, Mehrzweckhalle Röttbach, 97892 Kreuzwertheim;
END:VEVENT
BEGIN:VEVENT
DTSTAMP:20260422T083036
DTSTART;TZID=Europe/Berlin:20260621T090000
DTEND;TZID=Europe/Berlin:20260621T100000
UID:261-3067S-20260621T090000@VHSMARKTHEIDENFELD
SUMMARY:BodyStyling Kraft und Ausdauer für die Körpermitte (261-3067S) 
LOCATION:Mehrzweckhalle Röttbach, Mehrzweckhalle Röttbach, 97892 Kreuzwertheim;
END:VEVENT
BEGIN:VEVENT
DTSTAMP:20260422T083036
DTSTART;TZID=Europe/Berlin:20260628T090000
DTEND;TZID=Europe/Berlin:20260628T100000
UID:261-3067S-20260628T090000@VHSMARKTHEIDENFELD
SUMMARY:BodyStyling Kraft und Ausdauer für die Körpermitte (261-3067S) 
LOCATION:Mehrzweckhalle Röttbach, Mehrzweckhalle Röttbach, 97892 Kreuzwertheim;
END:VEVENT
BEGIN:VEVENT
DTSTAMP:20260422T083036
DTSTART;TZID=Europe/Berlin:20260705T090000
DTEND;TZID=Europe/Berlin:20260705T100000
UID:261-3067S-20260705T090000@VHSMARKTHEIDENFELD
SUMMARY:BodyStyling Kraft und Ausdauer für die Körpermitte (261-3067S) 
LOCATION:Mehrzweckhalle Röttbach, Mehrzweckhalle Röttbach, 97892 Kreuzwertheim;
END:VEVENT
BEGIN:VEVENT
DTSTAMP:20260422T083036
DTSTART;TZID=Europe/Berlin:20260712T090000
DTEND;TZID=Europe/Berlin:20260712T100000
UID:261-3067S-20260712T090000@VHSMARKTHEIDENFELD
SUMMARY:BodyStyling Kraft und Ausdauer für die Körpermitte (261-3067S) 
LOCATION:Mehrzweckhalle Röttbach, Mehrzweckhalle Röttbach, 97892 Kreuzwertheim;
END:VEVENT
BEGIN:VEVENT
DTSTAMP:20260422T083036
DTSTART;TZID=Europe/Berlin:20260719T090000
DTEND;TZID=Europe/Berlin:20260719T100000
UID:261-3067S-20260719T090000@VHSMARKTHEIDENFELD
SUMMARY:BodyStyling Kraft und Ausdauer für die Körpermitte (261-3067S) 
LOCATION:Mehrzweckhalle Röttbach, Mehrzweckhalle Röttbach, 97892 Kreuzwertheim;
END:VEVENT
BEGIN:VEVENT
DTSTAMP:20260422T083036
DTSTART;TZID=Europe/Berlin:20260726T090000
DTEND;TZID=Europe/Berlin:20260726T100000
UID:261-3067S-20260726T090000@VHSMARKTHEIDENFELD
SUMMARY:BodyStyling Kraft und Ausdauer für die Körpermitte (261-3067S) 
LOCATION:Mehrzweckhalle Röttbach, Mehrzweckhalle Röttbach, 97892 Kreuzwertheim;
END:VEVENT
END:VCALENDAR