BEGIN:VCALENDAR
VERSION:2.0
PRODID:https://www.kufer.de/kuferweb / DE
METHOD:PUBLISH
CALSCALE:GREGORIAN
X-WR-TIMEZONE:Europe/Berlin
BEGIN:VTIMEZONE
TZID:Europe/Berlin
X-LIC-LOCATION:Europe/Berlin
BEGIN:DAYLIGHT
TZOFFSETFROM:+0100
TZOFFSETTO:+0200
TZNAME:CEST
DTSTART:19700329T020000
RRULE:FREQ=YEARLY;INTERVAL=1;BYDAY=-1SU;BYMONTH=3
END:DAYLIGHT
BEGIN:STANDARD
TZOFFSETFROM:+0200
TZOFFSETTO:+0100
TZNAME:CET
DTSTART:19701025T030000
RRULE:FREQ=YEARLY;INTERVAL=1;BYDAY=-1SU;BYMONTH=10
END:STANDARD
END:VTIMEZONE
BEGIN:VEVENT
DTSTAMP:20260422T134025
DTSTART;TZID=Europe/Berlin:20260227T075500
DTEND;TZID=Europe/Berlin:20260227T091000
UID:261-3058-20260227T075500@VHSMARKTHEIDENFELD
SUMMARY:Dance and Stretch: Für mehr Vitalität und Beweglichkeit (261-3058) 
LOCATION:Altes Rathaus, Raum 3.1, Marktplatz 24, 97828 Marktheidenfeld
END:VEVENT
BEGIN:VEVENT
DTSTAMP:20260422T134025
DTSTART;TZID=Europe/Berlin:20260306T075500
DTEND;TZID=Europe/Berlin:20260306T091000
UID:261-3058-20260306T075500@VHSMARKTHEIDENFELD
SUMMARY:Dance and Stretch: Für mehr Vitalität und Beweglichkeit (261-3058) 
LOCATION:Altes Rathaus, Raum 3.1, Marktplatz 24, 97828 Marktheidenfeld
END:VEVENT
BEGIN:VEVENT
DTSTAMP:20260422T134025
DTSTART;TZID=Europe/Berlin:20260313T075500
DTEND;TZID=Europe/Berlin:20260313T091000
UID:261-3058-20260313T075500@VHSMARKTHEIDENFELD
SUMMARY:Dance and Stretch: Für mehr Vitalität und Beweglichkeit (261-3058) 
LOCATION:Altes Rathaus, Raum 3.1, Marktplatz 24, 97828 Marktheidenfeld
END:VEVENT
BEGIN:VEVENT
DTSTAMP:20260422T134025
DTSTART;TZID=Europe/Berlin:20260320T075500
DTEND;TZID=Europe/Berlin:20260320T091000
UID:261-3058-20260320T075500@VHSMARKTHEIDENFELD
SUMMARY:Dance and Stretch: Für mehr Vitalität und Beweglichkeit (261-3058) 
LOCATION:Altes Rathaus, Raum 3.1, Marktplatz 24, 97828 Marktheidenfeld
END:VEVENT
BEGIN:VEVENT
DTSTAMP:20260422T134025
DTSTART;TZID=Europe/Berlin:20260417T075500
DTEND;TZID=Europe/Berlin:20260417T091000
UID:261-3058-20260417T075500@VHSMARKTHEIDENFELD
SUMMARY:Dance and Stretch: Für mehr Vitalität und Beweglichkeit (261-3058) 
LOCATION:Altes Rathaus, Raum 3.1, Marktplatz 24, 97828 Marktheidenfeld
END:VEVENT
BEGIN:VEVENT
DTSTAMP:20260422T134025
DTSTART;TZID=Europe/Berlin:20260424T075500
DTEND;TZID=Europe/Berlin:20260424T091000
UID:261-3058-20260424T075500@VHSMARKTHEIDENFELD
SUMMARY:Dance and Stretch: Für mehr Vitalität und Beweglichkeit (261-3058) 
LOCATION:Altes Rathaus, Raum 3.1, Marktplatz 24, 97828 Marktheidenfeld
END:VEVENT
BEGIN:VEVENT
DTSTAMP:20260422T134025
DTSTART;TZID=Europe/Berlin:20260508T075500
DTEND;TZID=Europe/Berlin:20260508T091000
UID:261-3058-20260508T075500@VHSMARKTHEIDENFELD
SUMMARY:Dance and Stretch: Für mehr Vitalität und Beweglichkeit (261-3058) 
LOCATION:Altes Rathaus, Raum 3.1, Marktplatz 24, 97828 Marktheidenfeld
END:VEVENT
BEGIN:VEVENT
DTSTAMP:20260422T134025
DTSTART;TZID=Europe/Berlin:20260515T075500
DTEND;TZID=Europe/Berlin:20260515T091000
UID:261-3058-20260515T075500@VHSMARKTHEIDENFELD
SUMMARY:Dance and Stretch: Für mehr Vitalität und Beweglichkeit (261-3058) 
LOCATION:Altes Rathaus, Raum 3.1, Marktplatz 24, 97828 Marktheidenfeld
END:VEVENT
BEGIN:VEVENT
DTSTAMP:20260422T134025
DTSTART;TZID=Europe/Berlin:20260522T075500
DTEND;TZID=Europe/Berlin:20260522T091000
UID:261-3058-20260522T075500@VHSMARKTHEIDENFELD
SUMMARY:Dance and Stretch: Für mehr Vitalität und Beweglichkeit (261-3058) 
LOCATION:Altes Rathaus, Raum 3.1, Marktplatz 24, 97828 Marktheidenfeld
END:VEVENT
END:VCALENDAR