BEGIN:VCALENDAR
VERSION:2.0
PRODID:https://www.kufer.de/kuferweb / DE
METHOD:PUBLISH
CALSCALE:GREGORIAN
X-WR-TIMEZONE:Europe/Berlin
BEGIN:VTIMEZONE
TZID:Europe/Berlin
X-LIC-LOCATION:Europe/Berlin
BEGIN:DAYLIGHT
TZOFFSETFROM:+0100
TZOFFSETTO:+0200
TZNAME:CEST
DTSTART:19700329T020000
RRULE:FREQ=YEARLY;INTERVAL=1;BYDAY=-1SU;BYMONTH=3
END:DAYLIGHT
BEGIN:STANDARD
TZOFFSETFROM:+0200
TZOFFSETTO:+0100
TZNAME:CET
DTSTART:19701025T030000
RRULE:FREQ=YEARLY;INTERVAL=1;BYDAY=-1SU;BYMONTH=10
END:STANDARD
END:VTIMEZONE
BEGIN:VEVENT
DTSTAMP:20260422T151829
DTSTART;TZID=Europe/Berlin:20260224T171500
DTEND;TZID=Europe/Berlin:20260224T182500
UID:261-3052-20260224T171500@VHSMARKTHEIDENFELD
SUMMARY:Body-Fit (261-3052) 
LOCATION:Altes Rathaus, Raum 2.1, Marktplatz 24, 97828 Marktheidenfeld
END:VEVENT
BEGIN:VEVENT
DTSTAMP:20260422T151829
DTSTART;TZID=Europe/Berlin:20260303T171500
DTEND;TZID=Europe/Berlin:20260303T182500
UID:261-3052-20260303T171500@VHSMARKTHEIDENFELD
SUMMARY:Body-Fit (261-3052) 
LOCATION:Altes Rathaus, Raum 2.1, Marktplatz 24, 97828 Marktheidenfeld
END:VEVENT
BEGIN:VEVENT
DTSTAMP:20260422T151829
DTSTART;TZID=Europe/Berlin:20260310T171500
DTEND;TZID=Europe/Berlin:20260310T182500
UID:261-3052-20260310T171500@VHSMARKTHEIDENFELD
SUMMARY:Body-Fit (261-3052) 
LOCATION:Altes Rathaus, Raum 2.1, Marktplatz 24, 97828 Marktheidenfeld
END:VEVENT
BEGIN:VEVENT
DTSTAMP:20260422T151829
DTSTART;TZID=Europe/Berlin:20260317T171500
DTEND;TZID=Europe/Berlin:20260317T182500
UID:261-3052-20260317T171500@VHSMARKTHEIDENFELD
SUMMARY:Body-Fit (261-3052) 
LOCATION:Altes Rathaus, Raum 2.1, Marktplatz 24, 97828 Marktheidenfeld
END:VEVENT
BEGIN:VEVENT
DTSTAMP:20260422T151829
DTSTART;TZID=Europe/Berlin:20260324T171500
DTEND;TZID=Europe/Berlin:20260324T182500
UID:261-3052-20260324T171500@VHSMARKTHEIDENFELD
SUMMARY:Body-Fit (261-3052) 
LOCATION:Altes Rathaus, Raum 2.1, Marktplatz 24, 97828 Marktheidenfeld
END:VEVENT
BEGIN:VEVENT
DTSTAMP:20260422T151829
DTSTART;TZID=Europe/Berlin:20260414T171500
DTEND;TZID=Europe/Berlin:20260414T182500
UID:261-3052-20260414T171500@VHSMARKTHEIDENFELD
SUMMARY:Body-Fit (261-3052) 
LOCATION:Altes Rathaus, Raum 2.1, Marktplatz 24, 97828 Marktheidenfeld
END:VEVENT
BEGIN:VEVENT
DTSTAMP:20260422T151829
DTSTART;TZID=Europe/Berlin:20260421T171500
DTEND;TZID=Europe/Berlin:20260421T182500
UID:261-3052-20260421T171500@VHSMARKTHEIDENFELD
SUMMARY:Body-Fit (261-3052) 
LOCATION:Altes Rathaus, Raum 2.1, Marktplatz 24, 97828 Marktheidenfeld
END:VEVENT
BEGIN:VEVENT
DTSTAMP:20260422T151829
DTSTART;TZID=Europe/Berlin:20260428T171500
DTEND;TZID=Europe/Berlin:20260428T182500
UID:261-3052-20260428T171500@VHSMARKTHEIDENFELD
SUMMARY:Body-Fit (261-3052) 
LOCATION:Altes Rathaus, Raum 2.1, Marktplatz 24, 97828 Marktheidenfeld
END:VEVENT
BEGIN:VEVENT
DTSTAMP:20260422T151829
DTSTART;TZID=Europe/Berlin:20260512T171500
DTEND;TZID=Europe/Berlin:20260512T182500
UID:261-3052-20260512T171500@VHSMARKTHEIDENFELD
SUMMARY:Body-Fit (261-3052) 
LOCATION:Altes Rathaus, Raum 2.1, Marktplatz 24, 97828 Marktheidenfeld
END:VEVENT
BEGIN:VEVENT
DTSTAMP:20260422T151829
DTSTART;TZID=Europe/Berlin:20260519T171500
DTEND;TZID=Europe/Berlin:20260519T182500
UID:261-3052-20260519T171500@VHSMARKTHEIDENFELD
SUMMARY:Body-Fit (261-3052) 
LOCATION:Altes Rathaus, Raum 2.1, Marktplatz 24, 97828 Marktheidenfeld
END:VEVENT
END:VCALENDAR