BEGIN:VCALENDAR
VERSION:2.0
PRODID:https://www.kufer.de/kuferweb / DE
METHOD:PUBLISH
CALSCALE:GREGORIAN
X-WR-TIMEZONE:Europe/Berlin
BEGIN:VTIMEZONE
TZID:Europe/Berlin
X-LIC-LOCATION:Europe/Berlin
BEGIN:DAYLIGHT
TZOFFSETFROM:+0100
TZOFFSETTO:+0200
TZNAME:CEST
DTSTART:19700329T020000
RRULE:FREQ=YEARLY;INTERVAL=1;BYDAY=-1SU;BYMONTH=3
END:DAYLIGHT
BEGIN:STANDARD
TZOFFSETFROM:+0200
TZOFFSETTO:+0100
TZNAME:CET
DTSTART:19701025T030000
RRULE:FREQ=YEARLY;INTERVAL=1;BYDAY=-1SU;BYMONTH=10
END:STANDARD
END:VTIMEZONE
BEGIN:VEVENT
DTSTAMP:20260422T082938
DTSTART;TZID=Europe/Berlin:20260223T200000
DTEND;TZID=Europe/Berlin:20260223T204500
UID:261-3021-20260223T200000@VHSMARKTHEIDENFELD
SUMMARY:Wassergymnastik –  Ganzheitliches Training für alle Altersgruppen (261-3021) 
LOCATION:Friedrich-Fleischmann-Grundschule, Lehrschwimmbecken, Ludwigstraße 29, 97828 Marktheidenfeld
END:VEVENT
BEGIN:VEVENT
DTSTAMP:20260422T082938
DTSTART;TZID=Europe/Berlin:20260302T200000
DTEND;TZID=Europe/Berlin:20260302T204500
UID:261-3021-20260302T200000@VHSMARKTHEIDENFELD
SUMMARY:Wassergymnastik –  Ganzheitliches Training für alle Altersgruppen (261-3021) 
LOCATION:Friedrich-Fleischmann-Grundschule, Lehrschwimmbecken, Ludwigstraße 29, 97828 Marktheidenfeld
END:VEVENT
BEGIN:VEVENT
DTSTAMP:20260422T082938
DTSTART;TZID=Europe/Berlin:20260309T200000
DTEND;TZID=Europe/Berlin:20260309T204500
UID:261-3021-20260309T200000@VHSMARKTHEIDENFELD
SUMMARY:Wassergymnastik –  Ganzheitliches Training für alle Altersgruppen (261-3021) 
LOCATION:Friedrich-Fleischmann-Grundschule, Lehrschwimmbecken, Ludwigstraße 29, 97828 Marktheidenfeld
END:VEVENT
BEGIN:VEVENT
DTSTAMP:20260422T082938
DTSTART;TZID=Europe/Berlin:20260316T200000
DTEND;TZID=Europe/Berlin:20260316T204500
UID:261-3021-20260316T200000@VHSMARKTHEIDENFELD
SUMMARY:Wassergymnastik –  Ganzheitliches Training für alle Altersgruppen (261-3021) 
LOCATION:Friedrich-Fleischmann-Grundschule, Lehrschwimmbecken, Ludwigstraße 29, 97828 Marktheidenfeld
END:VEVENT
BEGIN:VEVENT
DTSTAMP:20260422T082938
DTSTART;TZID=Europe/Berlin:20260323T200000
DTEND;TZID=Europe/Berlin:20260323T204500
UID:261-3021-20260323T200000@VHSMARKTHEIDENFELD
SUMMARY:Wassergymnastik –  Ganzheitliches Training für alle Altersgruppen (261-3021) 
LOCATION:Friedrich-Fleischmann-Grundschule, Lehrschwimmbecken, Ludwigstraße 29, 97828 Marktheidenfeld
END:VEVENT
BEGIN:VEVENT
DTSTAMP:20260422T082938
DTSTART;TZID=Europe/Berlin:20260413T200000
DTEND;TZID=Europe/Berlin:20260413T204500
UID:261-3021-20260413T200000@VHSMARKTHEIDENFELD
SUMMARY:Wassergymnastik –  Ganzheitliches Training für alle Altersgruppen (261-3021) 
LOCATION:Friedrich-Fleischmann-Grundschule, Lehrschwimmbecken, Ludwigstraße 29, 97828 Marktheidenfeld
END:VEVENT
BEGIN:VEVENT
DTSTAMP:20260422T082938
DTSTART;TZID=Europe/Berlin:20260420T200000
DTEND;TZID=Europe/Berlin:20260420T204500
UID:261-3021-20260420T200000@VHSMARKTHEIDENFELD
SUMMARY:Wassergymnastik –  Ganzheitliches Training für alle Altersgruppen (261-3021) 
LOCATION:Friedrich-Fleischmann-Grundschule, Lehrschwimmbecken, Ludwigstraße 29, 97828 Marktheidenfeld
END:VEVENT
BEGIN:VEVENT
DTSTAMP:20260422T082938
DTSTART;TZID=Europe/Berlin:20260427T200000
DTEND;TZID=Europe/Berlin:20260427T204500
UID:261-3021-20260427T200000@VHSMARKTHEIDENFELD
SUMMARY:Wassergymnastik –  Ganzheitliches Training für alle Altersgruppen (261-3021) 
LOCATION:Friedrich-Fleischmann-Grundschule, Lehrschwimmbecken, Ludwigstraße 29, 97828 Marktheidenfeld
END:VEVENT
BEGIN:VEVENT
DTSTAMP:20260422T082938
DTSTART;TZID=Europe/Berlin:20260504T200000
DTEND;TZID=Europe/Berlin:20260504T204500
UID:261-3021-20260504T200000@VHSMARKTHEIDENFELD
SUMMARY:Wassergymnastik –  Ganzheitliches Training für alle Altersgruppen (261-3021) 
LOCATION:Friedrich-Fleischmann-Grundschule, Lehrschwimmbecken, Ludwigstraße 29, 97828 Marktheidenfeld
END:VEVENT
BEGIN:VEVENT
DTSTAMP:20260422T082938
DTSTART;TZID=Europe/Berlin:20260511T200000
DTEND;TZID=Europe/Berlin:20260511T204500
UID:261-3021-20260511T200000@VHSMARKTHEIDENFELD
SUMMARY:Wassergymnastik –  Ganzheitliches Training für alle Altersgruppen (261-3021) 
LOCATION:Friedrich-Fleischmann-Grundschule, Lehrschwimmbecken, Ludwigstraße 29, 97828 Marktheidenfeld
END:VEVENT
BEGIN:VEVENT
DTSTAMP:20260422T082938
DTSTART;TZID=Europe/Berlin:20260518T200000
DTEND;TZID=Europe/Berlin:20260518T204500
UID:261-3021-20260518T200000@VHSMARKTHEIDENFELD
SUMMARY:Wassergymnastik –  Ganzheitliches Training für alle Altersgruppen (261-3021) 
LOCATION:Friedrich-Fleischmann-Grundschule, Lehrschwimmbecken, Ludwigstraße 29, 97828 Marktheidenfeld
END:VEVENT
END:VCALENDAR