BEGIN:VCALENDAR
VERSION:2.0
PRODID:https://www.kufer.de/kuferweb / DE
METHOD:PUBLISH
CALSCALE:GREGORIAN
X-WR-TIMEZONE:Europe/Berlin
BEGIN:VTIMEZONE
TZID:Europe/Berlin
X-LIC-LOCATION:Europe/Berlin
BEGIN:DAYLIGHT
TZOFFSETFROM:+0100
TZOFFSETTO:+0200
TZNAME:CEST
DTSTART:19700329T020000
RRULE:FREQ=YEARLY;INTERVAL=1;BYDAY=-1SU;BYMONTH=3
END:DAYLIGHT
BEGIN:STANDARD
TZOFFSETFROM:+0200
TZOFFSETTO:+0100
TZNAME:CET
DTSTART:19701025T030000
RRULE:FREQ=YEARLY;INTERVAL=1;BYDAY=-1SU;BYMONTH=10
END:STANDARD
END:VTIMEZONE
BEGIN:VEVENT
DTSTAMP:20260422T115517
DTSTART;TZID=Europe/Berlin:20260226T163000
DTEND;TZID=Europe/Berlin:20260226T171500
UID:261-3005-20260226T163000@VHSMARKTHEIDENFELD
SUMMARY:Wassergymnastik XXL: Dein Weg zu mehr Fitness und Wohlbefinden (261-3005) 
LOCATION:Friedrich-Fleischmann-Grundschule, Lehrschwimmbecken, Ludwigstraße 29, 97828 Marktheidenfeld
END:VEVENT
BEGIN:VEVENT
DTSTAMP:20260422T115517
DTSTART;TZID=Europe/Berlin:20260305T163000
DTEND;TZID=Europe/Berlin:20260305T171500
UID:261-3005-20260305T163000@VHSMARKTHEIDENFELD
SUMMARY:Wassergymnastik XXL: Dein Weg zu mehr Fitness und Wohlbefinden (261-3005) 
LOCATION:Friedrich-Fleischmann-Grundschule, Lehrschwimmbecken, Ludwigstraße 29, 97828 Marktheidenfeld
END:VEVENT
BEGIN:VEVENT
DTSTAMP:20260422T115517
DTSTART;TZID=Europe/Berlin:20260312T163000
DTEND;TZID=Europe/Berlin:20260312T171500
UID:261-3005-20260312T163000@VHSMARKTHEIDENFELD
SUMMARY:Wassergymnastik XXL: Dein Weg zu mehr Fitness und Wohlbefinden (261-3005) 
LOCATION:Friedrich-Fleischmann-Grundschule, Lehrschwimmbecken, Ludwigstraße 29, 97828 Marktheidenfeld
END:VEVENT
BEGIN:VEVENT
DTSTAMP:20260422T115517
DTSTART;TZID=Europe/Berlin:20260319T163000
DTEND;TZID=Europe/Berlin:20260319T171500
UID:261-3005-20260319T163000@VHSMARKTHEIDENFELD
SUMMARY:Wassergymnastik XXL: Dein Weg zu mehr Fitness und Wohlbefinden (261-3005) 
LOCATION:Friedrich-Fleischmann-Grundschule, Lehrschwimmbecken, Ludwigstraße 29, 97828 Marktheidenfeld
END:VEVENT
BEGIN:VEVENT
DTSTAMP:20260422T115517
DTSTART;TZID=Europe/Berlin:20260326T163000
DTEND;TZID=Europe/Berlin:20260326T171500
UID:261-3005-20260326T163000@VHSMARKTHEIDENFELD
SUMMARY:Wassergymnastik XXL: Dein Weg zu mehr Fitness und Wohlbefinden (261-3005) 
LOCATION:Friedrich-Fleischmann-Grundschule, Lehrschwimmbecken, Ludwigstraße 29, 97828 Marktheidenfeld
END:VEVENT
BEGIN:VEVENT
DTSTAMP:20260422T115517
DTSTART;TZID=Europe/Berlin:20260416T163000
DTEND;TZID=Europe/Berlin:20260416T171500
UID:261-3005-20260416T163000@VHSMARKTHEIDENFELD
SUMMARY:Wassergymnastik XXL: Dein Weg zu mehr Fitness und Wohlbefinden (261-3005) 
LOCATION:Friedrich-Fleischmann-Grundschule, Lehrschwimmbecken, Ludwigstraße 29, 97828 Marktheidenfeld
END:VEVENT
BEGIN:VEVENT
DTSTAMP:20260422T115517
DTSTART;TZID=Europe/Berlin:20260423T163000
DTEND;TZID=Europe/Berlin:20260423T171500
UID:261-3005-20260423T163000@VHSMARKTHEIDENFELD
SUMMARY:Wassergymnastik XXL: Dein Weg zu mehr Fitness und Wohlbefinden (261-3005) 
LOCATION:Friedrich-Fleischmann-Grundschule, Lehrschwimmbecken, Ludwigstraße 29, 97828 Marktheidenfeld
END:VEVENT
BEGIN:VEVENT
DTSTAMP:20260422T115517
DTSTART;TZID=Europe/Berlin:20260430T163000
DTEND;TZID=Europe/Berlin:20260430T171500
UID:261-3005-20260430T163000@VHSMARKTHEIDENFELD
SUMMARY:Wassergymnastik XXL: Dein Weg zu mehr Fitness und Wohlbefinden (261-3005) 
LOCATION:Friedrich-Fleischmann-Grundschule, Lehrschwimmbecken, Ludwigstraße 29, 97828 Marktheidenfeld
END:VEVENT
BEGIN:VEVENT
DTSTAMP:20260422T115517
DTSTART;TZID=Europe/Berlin:20260507T163000
DTEND;TZID=Europe/Berlin:20260507T171500
UID:261-3005-20260507T163000@VHSMARKTHEIDENFELD
SUMMARY:Wassergymnastik XXL: Dein Weg zu mehr Fitness und Wohlbefinden (261-3005) 
LOCATION:Friedrich-Fleischmann-Grundschule, Lehrschwimmbecken, Ludwigstraße 29, 97828 Marktheidenfeld
END:VEVENT
BEGIN:VEVENT
DTSTAMP:20260422T115517
DTSTART;TZID=Europe/Berlin:20260521T163000
DTEND;TZID=Europe/Berlin:20260521T171500
UID:261-3005-20260521T163000@VHSMARKTHEIDENFELD
SUMMARY:Wassergymnastik XXL: Dein Weg zu mehr Fitness und Wohlbefinden (261-3005) 
LOCATION:Friedrich-Fleischmann-Grundschule, Lehrschwimmbecken, Ludwigstraße 29, 97828 Marktheidenfeld
END:VEVENT
END:VCALENDAR