BEGIN:VCALENDAR
VERSION:2.0
PRODID:https://www.kufer.de/kuferweb / DE
METHOD:PUBLISH
CALSCALE:GREGORIAN
X-WR-TIMEZONE:Europe/Berlin
BEGIN:VTIMEZONE
TZID:Europe/Berlin
X-LIC-LOCATION:Europe/Berlin
BEGIN:DAYLIGHT
TZOFFSETFROM:+0100
TZOFFSETTO:+0200
TZNAME:CEST
DTSTART:19700329T020000
RRULE:FREQ=YEARLY;INTERVAL=1;BYDAY=-1SU;BYMONTH=3
END:DAYLIGHT
BEGIN:STANDARD
TZOFFSETFROM:+0200
TZOFFSETTO:+0100
TZNAME:CET
DTSTART:19701025T030000
RRULE:FREQ=YEARLY;INTERVAL=1;BYDAY=-1SU;BYMONTH=10
END:STANDARD
END:VTIMEZONE
BEGIN:VEVENT
DTSTAMP:20260422T083036
DTSTART;TZID=Europe/Berlin:20260508T180000
DTEND;TZID=Europe/Berlin:20260508T210000
UID:261-2422-20260508T180000@VHSMARKTHEIDENFELD
SUMMARY:Acrylmalerei - Erlebnis-Wochenende (261-2422) 
LOCATION:Alte Schmiede, Schmiedsecke , Schmiedsecke 1, Marktheidenfeld
END:VEVENT
BEGIN:VEVENT
DTSTAMP:20260422T083036
DTSTART;TZID=Europe/Berlin:20260509T090000
DTEND;TZID=Europe/Berlin:20260509T170000
UID:261-2422-20260509T090000@VHSMARKTHEIDENFELD
SUMMARY:Acrylmalerei - Erlebnis-Wochenende (261-2422) 
LOCATION:Alte Schmiede, Schmiedsecke , Schmiedsecke 1, Marktheidenfeld
END:VEVENT
BEGIN:VEVENT
DTSTAMP:20260422T083036
DTSTART;TZID=Europe/Berlin:20260510T093000
DTEND;TZID=Europe/Berlin:20260510T123000
UID:261-2422-20260510T093000@VHSMARKTHEIDENFELD
SUMMARY:Acrylmalerei - Erlebnis-Wochenende (261-2422) 
LOCATION:Alte Schmiede, Schmiedsecke , Schmiedsecke 1, Marktheidenfeld
END:VEVENT
END:VCALENDAR