BEGIN:VCALENDAR
VERSION:2.0
PRODID:https://www.kufer.de/kuferweb / DE
METHOD:PUBLISH
CALSCALE:GREGORIAN
X-WR-TIMEZONE:Europe/Berlin
BEGIN:VTIMEZONE
TZID:Europe/Berlin
X-LIC-LOCATION:Europe/Berlin
BEGIN:DAYLIGHT
TZOFFSETFROM:+0100
TZOFFSETTO:+0200
TZNAME:CEST
DTSTART:19700329T020000
RRULE:FREQ=YEARLY;INTERVAL=1;BYDAY=-1SU;BYMONTH=3
END:DAYLIGHT
BEGIN:STANDARD
TZOFFSETFROM:+0200
TZOFFSETTO:+0100
TZNAME:CET
DTSTART:19701025T030000
RRULE:FREQ=YEARLY;INTERVAL=1;BYDAY=-1SU;BYMONTH=10
END:STANDARD
END:VTIMEZONE
BEGIN:VEVENT
DTSTAMP:20260422T082950
DTSTART;TZID=Europe/Berlin:20260326T090000
DTEND;TZID=Europe/Berlin:20260326T120000
UID:261-2420-20260326T090000@VHSMARKTHEIDENFELD
SUMMARY:Acrylmalerei - für Fortgeschrittene (261-2420) 
LOCATION:Alte Schmiede, Schmiedsecke , Schmiedsecke 1, Marktheidenfeld
END:VEVENT
BEGIN:VEVENT
DTSTAMP:20260422T082950
DTSTART;TZID=Europe/Berlin:20260416T090000
DTEND;TZID=Europe/Berlin:20260416T120000
UID:261-2420-20260416T090000@VHSMARKTHEIDENFELD
SUMMARY:Acrylmalerei - für Fortgeschrittene (261-2420) 
LOCATION:Alte Schmiede, Schmiedsecke , Schmiedsecke 1, Marktheidenfeld
END:VEVENT
BEGIN:VEVENT
DTSTAMP:20260422T082950
DTSTART;TZID=Europe/Berlin:20260423T090000
DTEND;TZID=Europe/Berlin:20260423T120000
UID:261-2420-20260423T090000@VHSMARKTHEIDENFELD
SUMMARY:Acrylmalerei - für Fortgeschrittene (261-2420) 
LOCATION:Alte Schmiede, Schmiedsecke , Schmiedsecke 1, Marktheidenfeld
END:VEVENT
BEGIN:VEVENT
DTSTAMP:20260422T082950
DTSTART;TZID=Europe/Berlin:20260430T090000
DTEND;TZID=Europe/Berlin:20260430T120000
UID:261-2420-20260430T090000@VHSMARKTHEIDENFELD
SUMMARY:Acrylmalerei - für Fortgeschrittene (261-2420) 
LOCATION:Alte Schmiede, Schmiedsecke , Schmiedsecke 1, Marktheidenfeld
END:VEVENT
BEGIN:VEVENT
DTSTAMP:20260422T082950
DTSTART;TZID=Europe/Berlin:20260507T090000
DTEND;TZID=Europe/Berlin:20260507T120000
UID:261-2420-20260507T090000@VHSMARKTHEIDENFELD
SUMMARY:Acrylmalerei - für Fortgeschrittene (261-2420) 
LOCATION:Alte Schmiede, Schmiedsecke , Schmiedsecke 1, Marktheidenfeld
END:VEVENT
BEGIN:VEVENT
DTSTAMP:20260422T082950
DTSTART;TZID=Europe/Berlin:20260521T090000
DTEND;TZID=Europe/Berlin:20260521T120000
UID:261-2420-20260521T090000@VHSMARKTHEIDENFELD
SUMMARY:Acrylmalerei - für Fortgeschrittene (261-2420) 
LOCATION:Alte Schmiede, Schmiedsecke , Schmiedsecke 1, Marktheidenfeld
END:VEVENT
END:VCALENDAR