BEGIN:VCALENDAR
VERSION:2.0
PRODID:https://www.kufer.de/kuferweb / DE
METHOD:PUBLISH
CALSCALE:GREGORIAN
X-WR-TIMEZONE:Europe/Berlin
BEGIN:VTIMEZONE
TZID:Europe/Berlin
X-LIC-LOCATION:Europe/Berlin
BEGIN:DAYLIGHT
TZOFFSETFROM:+0100
TZOFFSETTO:+0200
TZNAME:CEST
DTSTART:19700329T020000
RRULE:FREQ=YEARLY;INTERVAL=1;BYDAY=-1SU;BYMONTH=3
END:DAYLIGHT
BEGIN:STANDARD
TZOFFSETFROM:+0200
TZOFFSETTO:+0100
TZNAME:CET
DTSTART:19701025T030000
RRULE:FREQ=YEARLY;INTERVAL=1;BYDAY=-1SU;BYMONTH=10
END:STANDARD
END:VTIMEZONE
BEGIN:VEVENT
DTSTAMP:20260422T083034
DTSTART;TZID=Europe/Berlin:20260612T161500
DTEND;TZID=Europe/Berlin:20260612T171500
UID:261-2416S-20260612T161500@VHSMARKTHEIDENFELD
SUMMARY:Oriental Moves Bauchtanz für Fitness, Spaß und Lebensfreude (261-2416S) 
LOCATION:Altes Rathaus, Raum 2.1, Marktplatz 24, 97828 Marktheidenfeld
END:VEVENT
BEGIN:VEVENT
DTSTAMP:20260422T083034
DTSTART;TZID=Europe/Berlin:20260619T161500
DTEND;TZID=Europe/Berlin:20260619T171500
UID:261-2416S-20260619T161500@VHSMARKTHEIDENFELD
SUMMARY:Oriental Moves Bauchtanz für Fitness, Spaß und Lebensfreude (261-2416S) 
LOCATION:Altes Rathaus, Raum 2.1, Marktplatz 24, 97828 Marktheidenfeld
END:VEVENT
BEGIN:VEVENT
DTSTAMP:20260422T083034
DTSTART;TZID=Europe/Berlin:20260626T161500
DTEND;TZID=Europe/Berlin:20260626T171500
UID:261-2416S-20260626T161500@VHSMARKTHEIDENFELD
SUMMARY:Oriental Moves Bauchtanz für Fitness, Spaß und Lebensfreude (261-2416S) 
LOCATION:Altes Rathaus, Raum 2.1, Marktplatz 24, 97828 Marktheidenfeld
END:VEVENT
BEGIN:VEVENT
DTSTAMP:20260422T083034
DTSTART;TZID=Europe/Berlin:20260703T161500
DTEND;TZID=Europe/Berlin:20260703T171500
UID:261-2416S-20260703T161500@VHSMARKTHEIDENFELD
SUMMARY:Oriental Moves Bauchtanz für Fitness, Spaß und Lebensfreude (261-2416S) 
LOCATION:Altes Rathaus, Raum 2.1, Marktplatz 24, 97828 Marktheidenfeld
END:VEVENT
BEGIN:VEVENT
DTSTAMP:20260422T083034
DTSTART;TZID=Europe/Berlin:20260710T161500
DTEND;TZID=Europe/Berlin:20260710T171500
UID:261-2416S-20260710T161500@VHSMARKTHEIDENFELD
SUMMARY:Oriental Moves Bauchtanz für Fitness, Spaß und Lebensfreude (261-2416S) 
LOCATION:Altes Rathaus, Raum 2.1, Marktplatz 24, 97828 Marktheidenfeld
END:VEVENT
BEGIN:VEVENT
DTSTAMP:20260422T083034
DTSTART;TZID=Europe/Berlin:20260717T161500
DTEND;TZID=Europe/Berlin:20260717T171500
UID:261-2416S-20260717T161500@VHSMARKTHEIDENFELD
SUMMARY:Oriental Moves Bauchtanz für Fitness, Spaß und Lebensfreude (261-2416S) 
LOCATION:Altes Rathaus, Raum 2.1, Marktplatz 24, 97828 Marktheidenfeld
END:VEVENT
BEGIN:VEVENT
DTSTAMP:20260422T083034
DTSTART;TZID=Europe/Berlin:20260724T161500
DTEND;TZID=Europe/Berlin:20260724T171500
UID:261-2416S-20260724T161500@VHSMARKTHEIDENFELD
SUMMARY:Oriental Moves Bauchtanz für Fitness, Spaß und Lebensfreude (261-2416S) 
LOCATION:Altes Rathaus, Raum 2.1, Marktplatz 24, 97828 Marktheidenfeld
END:VEVENT
BEGIN:VEVENT
DTSTAMP:20260422T083034
DTSTART;TZID=Europe/Berlin:20260731T161500
DTEND;TZID=Europe/Berlin:20260731T171500
UID:261-2416S-20260731T161500@VHSMARKTHEIDENFELD
SUMMARY:Oriental Moves Bauchtanz für Fitness, Spaß und Lebensfreude (261-2416S) 
LOCATION:Altes Rathaus, Raum 2.1, Marktplatz 24, 97828 Marktheidenfeld
END:VEVENT
END:VCALENDAR