BEGIN:VCALENDAR
VERSION:2.0
PRODID:https://www.kufer.de/kuferweb / DE
METHOD:PUBLISH
CALSCALE:GREGORIAN
X-WR-TIMEZONE:Europe/Berlin
BEGIN:VTIMEZONE
TZID:Europe/Berlin
X-LIC-LOCATION:Europe/Berlin
BEGIN:DAYLIGHT
TZOFFSETFROM:+0100
TZOFFSETTO:+0200
TZNAME:CEST
DTSTART:19700329T020000
RRULE:FREQ=YEARLY;INTERVAL=1;BYDAY=-1SU;BYMONTH=3
END:DAYLIGHT
BEGIN:STANDARD
TZOFFSETFROM:+0200
TZOFFSETTO:+0100
TZNAME:CET
DTSTART:19701025T030000
RRULE:FREQ=YEARLY;INTERVAL=1;BYDAY=-1SU;BYMONTH=10
END:STANDARD
END:VTIMEZONE
BEGIN:VEVENT
DTSTAMP:20260422T082949
DTSTART;TZID=Europe/Berlin:20260612T185000
DTEND;TZID=Europe/Berlin:20260612T195000
UID:261-2405-20260612T185000@VHSMARKTHEIDENFELD
SUMMARY:Modern Linedance: Freestyle, Flashmobs & Tänze des Jahres (DTV) (261-2405) 
LOCATION:Altes Rathaus, Raum 2.1, Marktplatz 24, 97828 Marktheidenfeld
END:VEVENT
BEGIN:VEVENT
DTSTAMP:20260422T082949
DTSTART;TZID=Europe/Berlin:20260619T185000
DTEND;TZID=Europe/Berlin:20260619T195000
UID:261-2405-20260619T185000@VHSMARKTHEIDENFELD
SUMMARY:Modern Linedance: Freestyle, Flashmobs & Tänze des Jahres (DTV) (261-2405) 
LOCATION:Altes Rathaus, Raum 2.1, Marktplatz 24, 97828 Marktheidenfeld
END:VEVENT
BEGIN:VEVENT
DTSTAMP:20260422T082949
DTSTART;TZID=Europe/Berlin:20260626T185000
DTEND;TZID=Europe/Berlin:20260626T195000
UID:261-2405-20260626T185000@VHSMARKTHEIDENFELD
SUMMARY:Modern Linedance: Freestyle, Flashmobs & Tänze des Jahres (DTV) (261-2405) 
LOCATION:Altes Rathaus, Raum 2.1, Marktplatz 24, 97828 Marktheidenfeld
END:VEVENT
BEGIN:VEVENT
DTSTAMP:20260422T082949
DTSTART;TZID=Europe/Berlin:20260703T185000
DTEND;TZID=Europe/Berlin:20260703T195000
UID:261-2405-20260703T185000@VHSMARKTHEIDENFELD
SUMMARY:Modern Linedance: Freestyle, Flashmobs & Tänze des Jahres (DTV) (261-2405) 
LOCATION:Altes Rathaus, Raum 2.1, Marktplatz 24, 97828 Marktheidenfeld
END:VEVENT
END:VCALENDAR