BEGIN:VCALENDAR
VERSION:2.0
PRODID:https://www.kufer.de/kuferweb / DE
METHOD:PUBLISH
CALSCALE:GREGORIAN
X-WR-TIMEZONE:Europe/Berlin
BEGIN:VTIMEZONE
TZID:Europe/Berlin
X-LIC-LOCATION:Europe/Berlin
BEGIN:DAYLIGHT
TZOFFSETFROM:+0100
TZOFFSETTO:+0200
TZNAME:CEST
DTSTART:19700329T020000
RRULE:FREQ=YEARLY;INTERVAL=1;BYDAY=-1SU;BYMONTH=3
END:DAYLIGHT
BEGIN:STANDARD
TZOFFSETFROM:+0200
TZOFFSETTO:+0100
TZNAME:CET
DTSTART:19701025T030000
RRULE:FREQ=YEARLY;INTERVAL=1;BYDAY=-1SU;BYMONTH=10
END:STANDARD
END:VTIMEZONE
BEGIN:VEVENT
DTSTAMP:20260425T164350
DTSTART;TZID=Europe/Berlin:20260702T193000
DTEND;TZID=Europe/Berlin:20260702T210000
UID:261-1503-20260702T193000@VHSMARKTHEIDENFELD
SUMMARY:Bindung verstehen - Bedürfnisse erkennen - Kommunikation gestalten (261-1503) 
LOCATION:Altes Rathaus, Raum 1.2, Marktplatz 24, 97828 Marktheidenfeld
END:VEVENT
BEGIN:VEVENT
DTSTAMP:20260425T164350
DTSTART;TZID=Europe/Berlin:20260709T193000
DTEND;TZID=Europe/Berlin:20260709T210000
UID:261-1503-20260709T193000@VHSMARKTHEIDENFELD
SUMMARY:Bindung verstehen - Bedürfnisse erkennen - Kommunikation gestalten (261-1503) 
LOCATION:Altes Rathaus, Raum 1.2, Marktplatz 24, 97828 Marktheidenfeld
END:VEVENT
BEGIN:VEVENT
DTSTAMP:20260425T164350
DTSTART;TZID=Europe/Berlin:20260716T193000
DTEND;TZID=Europe/Berlin:20260716T210000
UID:261-1503-20260716T193000@VHSMARKTHEIDENFELD
SUMMARY:Bindung verstehen - Bedürfnisse erkennen - Kommunikation gestalten (261-1503) 
LOCATION:Altes Rathaus, Raum 1.2, Marktplatz 24, 97828 Marktheidenfeld
END:VEVENT
END:VCALENDAR